BEGIN:VCALENDAR
VERSION:2.0
PRODID:-//destination.one//NONSGML destination.meta API//DE
X-WR-CALDESC:A calendar powered by destination.meta
X-WR-CALNAME:borkum Kalender via destination.meta
BEGIN:VEVENT
CATEGORIES:Religion sonstige
DESCRIPTION:\n\nmehr Informationen unter http://pages.destination.one/de/bo
 rkum/streaming/detail/Event/08BD1432845EA4550A69914A29848629/gottesdienst-
 in-der-ev-luth-christuskirche-am-neuen-leuchtturm
DTEND;TZID=Europe/Berlin:20260503T110000
DTSTAMP:20260421T084435Z
DTSTART;TZID=Europe/Berlin:20260503T100000
GEO:53.588449;6.660853
LOCATION:Ev.-luth. Christuskirche\, Goethestr. 14\, Borkum
ORGANIZER;CN=Evangelisch-lutherische Christus-Kirchengemeinde:mailto:joerg.
 schulze@evlka.de
SEQUENCE:0
SUMMARY:Gottesdienst in der Ev.-luth. Christuskirche am Neuen Leuchtturm
UID:08BD1432845EA4550A69914A29848629_iv0
URL:http://pages.destination.one/de/borkum/streaming/detail/Event/08BD14328
 45EA4550A69914A29848629/gottesdienst-in-der-ev-luth-christuskirche-am-neue
 n-leuchtturm
END:VEVENT
BEGIN:VEVENT
CATEGORIES:Religion sonstige
DESCRIPTION:\n\nmehr Informationen unter http://pages.destination.one/de/bo
 rkum/streaming/detail/Event/08BD1432845EA4550A69914A29848629/gottesdienst-
 in-der-ev-luth-christuskirche-am-neuen-leuchtturm
DTEND;TZID=Europe/Berlin:20260517T110000
DTSTAMP:20260421T084435Z
DTSTART;TZID=Europe/Berlin:20260517T100000
GEO:53.588449;6.660853
LOCATION:Ev.-luth. Christuskirche\, Goethestr. 14\, Borkum
ORGANIZER;CN=Evangelisch-lutherische Christus-Kirchengemeinde:mailto:joerg.
 schulze@evlka.de
SEQUENCE:0
SUMMARY:Gottesdienst in der Ev.-luth. Christuskirche am Neuen Leuchtturm
UID:08BD1432845EA4550A69914A29848629_iv1
URL:http://pages.destination.one/de/borkum/streaming/detail/Event/08BD14328
 45EA4550A69914A29848629/gottesdienst-in-der-ev-luth-christuskirche-am-neue
 n-leuchtturm
END:VEVENT
BEGIN:VEVENT
CATEGORIES:Religion sonstige
DESCRIPTION:\n\nmehr Informationen unter http://pages.destination.one/de/bo
 rkum/streaming/detail/Event/08BD1432845EA4550A69914A29848629/gottesdienst-
 in-der-ev-luth-christuskirche-am-neuen-leuchtturm
DTEND;TZID=Europe/Berlin:20260607T110000
DTSTAMP:20260421T084435Z
DTSTART;TZID=Europe/Berlin:20260607T100000
GEO:53.588449;6.660853
LOCATION:Ev.-luth. Christuskirche\, Goethestr. 14\, Borkum
ORGANIZER;CN=Evangelisch-lutherische Christus-Kirchengemeinde:mailto:joerg.
 schulze@evlka.de
SEQUENCE:0
SUMMARY:Gottesdienst in der Ev.-luth. Christuskirche am Neuen Leuchtturm
UID:08BD1432845EA4550A69914A29848629_iv2
URL:http://pages.destination.one/de/borkum/streaming/detail/Event/08BD14328
 45EA4550A69914A29848629/gottesdienst-in-der-ev-luth-christuskirche-am-neue
 n-leuchtturm
END:VEVENT
BEGIN:VEVENT
CATEGORIES:Religion sonstige
DESCRIPTION:\n\nmehr Informationen unter http://pages.destination.one/de/bo
 rkum/streaming/detail/Event/08BD1432845EA4550A69914A29848629/gottesdienst-
 in-der-ev-luth-christuskirche-am-neuen-leuchtturm
DTEND;TZID=Europe/Berlin:20260621T110000
DTSTAMP:20260421T084435Z
DTSTART;TZID=Europe/Berlin:20260621T100000
GEO:53.588449;6.660853
LOCATION:Ev.-luth. Christuskirche\, Goethestr. 14\, Borkum
ORGANIZER;CN=Evangelisch-lutherische Christus-Kirchengemeinde:mailto:joerg.
 schulze@evlka.de
SEQUENCE:0
SUMMARY:Gottesdienst in der Ev.-luth. Christuskirche am Neuen Leuchtturm
UID:08BD1432845EA4550A69914A29848629_iv3
URL:http://pages.destination.one/de/borkum/streaming/detail/Event/08BD14328
 45EA4550A69914A29848629/gottesdienst-in-der-ev-luth-christuskirche-am-neue
 n-leuchtturm
END:VEVENT
BEGIN:VEVENT
CATEGORIES:Religion sonstige
DESCRIPTION:\n\nmehr Informationen unter http://pages.destination.one/de/bo
 rkum/streaming/detail/Event/08BD1432845EA4550A69914A29848629/gottesdienst-
 in-der-ev-luth-christuskirche-am-neuen-leuchtturm
DTEND;TZID=Europe/Berlin:20260628T110000
DTSTAMP:20260421T084435Z
DTSTART;TZID=Europe/Berlin:20260628T100000
GEO:53.588449;6.660853
LOCATION:Ev.-luth. Christuskirche\, Goethestr. 14\, Borkum
ORGANIZER;CN=Evangelisch-lutherische Christus-Kirchengemeinde:mailto:joerg.
 schulze@evlka.de
SEQUENCE:0
SUMMARY:Gottesdienst in der Ev.-luth. Christuskirche am Neuen Leuchtturm
UID:08BD1432845EA4550A69914A29848629_iv4
URL:http://pages.destination.one/de/borkum/streaming/detail/Event/08BD14328
 45EA4550A69914A29848629/gottesdienst-in-der-ev-luth-christuskirche-am-neue
 n-leuchtturm
END:VEVENT
BEGIN:VTIMEZONE
TZID:Europe/Berlin
X-LIC-LOCATION:Europe/Berlin
BEGIN:DAYLIGHT
DTSTART:19700329T020000
RRULE:FREQ=YEARLY;BYDAY=-1SU;BYMONTH=3
TZNAME:CEST
TZOFFSETFROM:+0100
TZOFFSETTO:+0200
END:DAYLIGHT
BEGIN:STANDARD
DTSTART:19701025T030000
RRULE:FREQ=YEARLY;BYDAY=-1SU;BYMONTH=10
TZNAME:CET
TZOFFSETFROM:+0200
TZOFFSETTO:+0100
END:STANDARD
END:VTIMEZONE
END:VCALENDAR
