BEGIN:VCALENDAR
VERSION:2.0
PRODID:-//destination.one//NONSGML destination.meta API//DE
X-WR-CALDESC:A calendar powered by destination.meta
X-WR-CALNAME:borkum Kalender via destination.meta
BEGIN:VEVENT
CATEGORIES:Tradition\, Brauchtum\, Volksfest sonstige
CATEGORIES:Familien/Kinder sonstige
CATEGORIES:Kunst und Kultur sonstige
CATEGORIES:Musik sonstige
CATEGORIES:Natur und Umwelt
CATEGORIES:Party
CATEGORIES:Bühnenkunst
DESCRIPTION:\n\nmehr Informationen unter http://pages.destination.one/de/bo
 rkum/streaming/detail/Event/11C313F224403A127D704905CA198C74/weinfest-im-s
 turmeck
DTEND;TZID=Europe/Berlin:20260624T230000
DTSTAMP:20260421T082248Z
DTSTART;TZID=Europe/Berlin:20260624T140000
GEO:53.599385;6.674096
LOCATION:Café Sturmeck\, Hindenburgstraße 144\, 26757 Borkum
ORGANIZER;CN=Strandcafé Sturmeck:https://sturmeck.de/impressum/
SEQUENCE:0
SUMMARY:Weinfest im Sturmeck
UID:11C313F224403A127D704905CA198C74_iv0
URL:http://pages.destination.one/de/borkum/streaming/detail/Event/11C313F22
 4403A127D704905CA198C74/weinfest-im-sturmeck
END:VEVENT
BEGIN:VTIMEZONE
TZID:Europe/Berlin
X-LIC-LOCATION:Europe/Berlin
BEGIN:DAYLIGHT
DTSTART:19700329T020000
RRULE:FREQ=YEARLY;BYDAY=-1SU;BYMONTH=3
TZNAME:CEST
TZOFFSETFROM:+0100
TZOFFSETTO:+0200
END:DAYLIGHT
BEGIN:STANDARD
DTSTART:19701025T030000
RRULE:FREQ=YEARLY;BYDAY=-1SU;BYMONTH=10
TZNAME:CET
TZOFFSETFROM:+0200
TZOFFSETTO:+0100
END:STANDARD
END:VTIMEZONE
END:VCALENDAR
