BEGIN:VCALENDAR
VERSION:2.0
PRODID:-//destination.one//NONSGML destination.meta API//DE
X-WR-CALDESC:A calendar powered by destination.meta
X-WR-CALNAME:borkum Kalender via destination.meta
BEGIN:VEVENT
CATEGORIES:Religion sonstige
CATEGORIES:Reisen
CATEGORIES:Vortrag\, Diskussion\, Lesung sonstige
DESCRIPTION:\n\nmehr Informationen unter http://pages.destination.one/de/bo
 rkum/streaming/detail/Event/16538D56F0769484149890C070CC6201/vortrags-und-
 gespr-chsabend-heilsame-ber-hrungen-christliches-handauflegen-mit-urlaubss
 eelsorger-pastor-i-r-klaus-dettke
DTEND;TZID=Europe/Berlin:20260519T213000
DTSTAMP:20260423T091336Z
DTSTART;TZID=Europe/Berlin:20260519T200000
GEO:53.588660;6.660630
LOCATION:Ev.-luth. Gemeindehaus Arche\, Strandstr. 37\, Borkum
ORGANIZER;CN=Evangelisch-lutherische Christus-Kirchengemeinde:mailto:joerg.
 schulze@evlka.de
SEQUENCE:0
SUMMARY:Vortrags- und Gesprächsabend „Heilsame Berührungen – Christliches H
 andauflegen“ mit Urlaubsseelsorger Pastor i.R. Klaus Dettke
UID:16538D56F0769484149890C070CC6201_iv0
URL:http://pages.destination.one/de/borkum/streaming/detail/Event/16538D56F
 0769484149890C070CC6201/vortrags-und-gespr-chsabend-heilsame-ber-hrungen-c
 hristliches-handauflegen-mit-urlaubsseelsorger-pastor-i-r-klaus-dettke
END:VEVENT
BEGIN:VTIMEZONE
TZID:Europe/Berlin
X-LIC-LOCATION:Europe/Berlin
BEGIN:DAYLIGHT
DTSTART:19700329T020000
RRULE:FREQ=YEARLY;BYDAY=-1SU;BYMONTH=3
TZNAME:CEST
TZOFFSETFROM:+0100
TZOFFSETTO:+0200
END:DAYLIGHT
BEGIN:STANDARD
DTSTART:19701025T030000
RRULE:FREQ=YEARLY;BYDAY=-1SU;BYMONTH=10
TZNAME:CET
TZOFFSETFROM:+0200
TZOFFSETTO:+0100
END:STANDARD
END:VTIMEZONE
END:VCALENDAR
