BEGIN:VCALENDAR
VERSION:2.0
PRODID:-//destination.one//NONSGML destination.meta API//DE
X-WR-CALDESC:A calendar powered by destination.meta
X-WR-CALNAME:borkum Kalender via destination.meta
BEGIN:VEVENT
CATEGORIES:Familien/Kinder sonstige
CATEGORIES:Natur und Umwelt
CATEGORIES:Vortrag\, Diskussion\, Lesung sonstige
DESCRIPTION:\n\nmehr Informationen unter http://pages.destination.one/de/bo
 rkum/streaming/detail/Event/18206E15514EF7136B2C78AF87B8289F/f-hrung-durch
 -das-nordsee-aquarium-borkum
DTEND;TZID=Europe/Berlin:20260515T100000
DTSTAMP:20260421T082336Z
DTSTART;TZID=Europe/Berlin:20260515T090000
GEO:53.580633;6.662117
LOCATION:Nordsee Aquarium\, Von-Frese-Straße 46\, Borkum
SEQUENCE:0
SUMMARY:Führung durch das Nordsee Aquarium Borkum
UID:18206E15514EF7136B2C78AF87B8289F_iv0
URL:http://pages.destination.one/de/borkum/streaming/detail/Event/18206E155
 14EF7136B2C78AF87B8289F/f-hrung-durch-das-nordsee-aquarium-borkum
END:VEVENT
BEGIN:VEVENT
CATEGORIES:Familien/Kinder sonstige
CATEGORIES:Natur und Umwelt
CATEGORIES:Vortrag\, Diskussion\, Lesung sonstige
DESCRIPTION:\n\nmehr Informationen unter http://pages.destination.one/de/bo
 rkum/streaming/detail/Event/18206E15514EF7136B2C78AF87B8289F/f-hrung-durch
 -das-nordsee-aquarium-borkum
DTEND;TZID=Europe/Berlin:20260717T100000
DTSTAMP:20260421T082336Z
DTSTART;TZID=Europe/Berlin:20260717T090000
GEO:53.580633;6.662117
LOCATION:Nordsee Aquarium\, Von-Frese-Straße 46\, Borkum
SEQUENCE:0
SUMMARY:Führung durch das Nordsee Aquarium Borkum
UID:18206E15514EF7136B2C78AF87B8289F_iv1
URL:http://pages.destination.one/de/borkum/streaming/detail/Event/18206E155
 14EF7136B2C78AF87B8289F/f-hrung-durch-das-nordsee-aquarium-borkum
END:VEVENT
BEGIN:VEVENT
CATEGORIES:Familien/Kinder sonstige
CATEGORIES:Natur und Umwelt
CATEGORIES:Vortrag\, Diskussion\, Lesung sonstige
DESCRIPTION:\n\nmehr Informationen unter http://pages.destination.one/de/bo
 rkum/streaming/detail/Event/18206E15514EF7136B2C78AF87B8289F/f-hrung-durch
 -das-nordsee-aquarium-borkum
DTEND;TZID=Europe/Berlin:20260724T100000
DTSTAMP:20260421T082336Z
DTSTART;TZID=Europe/Berlin:20260724T090000
GEO:53.580633;6.662117
LOCATION:Nordsee Aquarium\, Von-Frese-Straße 46\, Borkum
SEQUENCE:0
SUMMARY:Führung durch das Nordsee Aquarium Borkum
UID:18206E15514EF7136B2C78AF87B8289F_iv2
URL:http://pages.destination.one/de/borkum/streaming/detail/Event/18206E155
 14EF7136B2C78AF87B8289F/f-hrung-durch-das-nordsee-aquarium-borkum
END:VEVENT
BEGIN:VEVENT
CATEGORIES:Familien/Kinder sonstige
CATEGORIES:Natur und Umwelt
CATEGORIES:Vortrag\, Diskussion\, Lesung sonstige
DESCRIPTION:\n\nmehr Informationen unter http://pages.destination.one/de/bo
 rkum/streaming/detail/Event/18206E15514EF7136B2C78AF87B8289F/f-hrung-durch
 -das-nordsee-aquarium-borkum
DTEND;TZID=Europe/Berlin:20260731T100000
DTSTAMP:20260421T082336Z
DTSTART;TZID=Europe/Berlin:20260731T090000
GEO:53.580633;6.662117
LOCATION:Nordsee Aquarium\, Von-Frese-Straße 46\, Borkum
SEQUENCE:0
SUMMARY:Führung durch das Nordsee Aquarium Borkum
UID:18206E15514EF7136B2C78AF87B8289F_iv3
URL:http://pages.destination.one/de/borkum/streaming/detail/Event/18206E155
 14EF7136B2C78AF87B8289F/f-hrung-durch-das-nordsee-aquarium-borkum
END:VEVENT
BEGIN:VEVENT
CATEGORIES:Familien/Kinder sonstige
CATEGORIES:Natur und Umwelt
CATEGORIES:Vortrag\, Diskussion\, Lesung sonstige
DESCRIPTION:\n\nmehr Informationen unter http://pages.destination.one/de/bo
 rkum/streaming/detail/Event/18206E15514EF7136B2C78AF87B8289F/f-hrung-durch
 -das-nordsee-aquarium-borkum
DTEND;TZID=Europe/Berlin:20260807T100000
DTSTAMP:20260421T082336Z
DTSTART;TZID=Europe/Berlin:20260807T090000
GEO:53.580633;6.662117
LOCATION:Nordsee Aquarium\, Von-Frese-Straße 46\, Borkum
SEQUENCE:0
SUMMARY:Führung durch das Nordsee Aquarium Borkum
UID:18206E15514EF7136B2C78AF87B8289F_iv4
URL:http://pages.destination.one/de/borkum/streaming/detail/Event/18206E155
 14EF7136B2C78AF87B8289F/f-hrung-durch-das-nordsee-aquarium-borkum
END:VEVENT
BEGIN:VEVENT
CATEGORIES:Familien/Kinder sonstige
CATEGORIES:Natur und Umwelt
CATEGORIES:Vortrag\, Diskussion\, Lesung sonstige
DESCRIPTION:\n\nmehr Informationen unter http://pages.destination.one/de/bo
 rkum/streaming/detail/Event/18206E15514EF7136B2C78AF87B8289F/f-hrung-durch
 -das-nordsee-aquarium-borkum
DTEND;TZID=Europe/Berlin:20260814T100000
DTSTAMP:20260421T082336Z
DTSTART;TZID=Europe/Berlin:20260814T090000
GEO:53.580633;6.662117
LOCATION:Nordsee Aquarium\, Von-Frese-Straße 46\, Borkum
SEQUENCE:0
SUMMARY:Führung durch das Nordsee Aquarium Borkum
UID:18206E15514EF7136B2C78AF87B8289F_iv5
URL:http://pages.destination.one/de/borkum/streaming/detail/Event/18206E155
 14EF7136B2C78AF87B8289F/f-hrung-durch-das-nordsee-aquarium-borkum
END:VEVENT
BEGIN:VEVENT
CATEGORIES:Familien/Kinder sonstige
CATEGORIES:Natur und Umwelt
CATEGORIES:Vortrag\, Diskussion\, Lesung sonstige
DESCRIPTION:\n\nmehr Informationen unter http://pages.destination.one/de/bo
 rkum/streaming/detail/Event/18206E15514EF7136B2C78AF87B8289F/f-hrung-durch
 -das-nordsee-aquarium-borkum
DTEND;TZID=Europe/Berlin:20260821T100000
DTSTAMP:20260421T082336Z
DTSTART;TZID=Europe/Berlin:20260821T090000
GEO:53.580633;6.662117
LOCATION:Nordsee Aquarium\, Von-Frese-Straße 46\, Borkum
SEQUENCE:0
SUMMARY:Führung durch das Nordsee Aquarium Borkum
UID:18206E15514EF7136B2C78AF87B8289F_iv6
URL:http://pages.destination.one/de/borkum/streaming/detail/Event/18206E155
 14EF7136B2C78AF87B8289F/f-hrung-durch-das-nordsee-aquarium-borkum
END:VEVENT
BEGIN:VEVENT
CATEGORIES:Familien/Kinder sonstige
CATEGORIES:Natur und Umwelt
CATEGORIES:Vortrag\, Diskussion\, Lesung sonstige
DESCRIPTION:\n\nmehr Informationen unter http://pages.destination.one/de/bo
 rkum/streaming/detail/Event/18206E15514EF7136B2C78AF87B8289F/f-hrung-durch
 -das-nordsee-aquarium-borkum
DTEND;TZID=Europe/Berlin:20260828T100000
DTSTAMP:20260421T082336Z
DTSTART;TZID=Europe/Berlin:20260828T090000
GEO:53.580633;6.662117
LOCATION:Nordsee Aquarium\, Von-Frese-Straße 46\, Borkum
SEQUENCE:0
SUMMARY:Führung durch das Nordsee Aquarium Borkum
UID:18206E15514EF7136B2C78AF87B8289F_iv7
URL:http://pages.destination.one/de/borkum/streaming/detail/Event/18206E155
 14EF7136B2C78AF87B8289F/f-hrung-durch-das-nordsee-aquarium-borkum
END:VEVENT
BEGIN:VTIMEZONE
TZID:Europe/Berlin
X-LIC-LOCATION:Europe/Berlin
BEGIN:DAYLIGHT
DTSTART:19700329T020000
RRULE:FREQ=YEARLY;BYDAY=-1SU;BYMONTH=3
TZNAME:CEST
TZOFFSETFROM:+0100
TZOFFSETTO:+0200
END:DAYLIGHT
BEGIN:STANDARD
DTSTART:19701025T030000
RRULE:FREQ=YEARLY;BYDAY=-1SU;BYMONTH=10
TZNAME:CET
TZOFFSETFROM:+0200
TZOFFSETTO:+0100
END:STANDARD
END:VTIMEZONE
END:VCALENDAR
