BEGIN:VCALENDAR
VERSION:2.0
PRODID:-//destination.one//NONSGML destination.meta API//DE
X-WR-CALDESC:A calendar powered by destination.meta
X-WR-CALNAME:borkum Kalender via destination.meta
BEGIN:VEVENT
CATEGORIES:Familien/Kinder sonstige
CATEGORIES:Natur und Umwelt
DESCRIPTION:\n\nmehr Informationen unter http://pages.destination.one/de/bo
 rkum/streaming/detail/Event/205B6DF51708E4F95D04549C3F8BC86F/strandspazier
 gang-vom-wal-zum-hai
DTEND;TZID=Europe/Berlin:20260422T120000
DTSTAMP:20260421T082326Z
DTSTART;TZID=Europe/Berlin:20260422T103000
GEO:53.587907;6.657699
LOCATION:Walinsel\, Obere Promenade\, Jann-Berghaus-Straße\, Borkum
SEQUENCE:0
SUMMARY:Strandspaziergang „Vom Wal zum Hai“
UID:205B6DF51708E4F95D04549C3F8BC86F_iv0
URL:http://pages.destination.one/de/borkum/streaming/detail/Event/205B6DF51
 708E4F95D04549C3F8BC86F/strandspaziergang-vom-wal-zum-hai
END:VEVENT
BEGIN:VEVENT
CATEGORIES:Familien/Kinder sonstige
CATEGORIES:Natur und Umwelt
DESCRIPTION:\n\nmehr Informationen unter http://pages.destination.one/de/bo
 rkum/streaming/detail/Event/205B6DF51708E4F95D04549C3F8BC86F/strandspazier
 gang-vom-wal-zum-hai
DTEND;TZID=Europe/Berlin:20260429T120000
DTSTAMP:20260421T082326Z
DTSTART;TZID=Europe/Berlin:20260429T103000
GEO:53.587907;6.657699
LOCATION:Walinsel\, Obere Promenade\, Jann-Berghaus-Straße\, Borkum
SEQUENCE:0
SUMMARY:Strandspaziergang „Vom Wal zum Hai“
UID:205B6DF51708E4F95D04549C3F8BC86F_iv1
URL:http://pages.destination.one/de/borkum/streaming/detail/Event/205B6DF51
 708E4F95D04549C3F8BC86F/strandspaziergang-vom-wal-zum-hai
END:VEVENT
BEGIN:VEVENT
CATEGORIES:Familien/Kinder sonstige
CATEGORIES:Natur und Umwelt
DESCRIPTION:\n\nmehr Informationen unter http://pages.destination.one/de/bo
 rkum/streaming/detail/Event/205B6DF51708E4F95D04549C3F8BC86F/strandspazier
 gang-vom-wal-zum-hai
DTEND;TZID=Europe/Berlin:20260506T120000
DTSTAMP:20260421T082326Z
DTSTART;TZID=Europe/Berlin:20260506T103000
GEO:53.587907;6.657699
LOCATION:Walinsel\, Obere Promenade\, Jann-Berghaus-Straße\, Borkum
SEQUENCE:0
SUMMARY:Strandspaziergang „Vom Wal zum Hai“
UID:205B6DF51708E4F95D04549C3F8BC86F_iv2
URL:http://pages.destination.one/de/borkum/streaming/detail/Event/205B6DF51
 708E4F95D04549C3F8BC86F/strandspaziergang-vom-wal-zum-hai
END:VEVENT
BEGIN:VEVENT
CATEGORIES:Familien/Kinder sonstige
CATEGORIES:Natur und Umwelt
DESCRIPTION:\n\nmehr Informationen unter http://pages.destination.one/de/bo
 rkum/streaming/detail/Event/205B6DF51708E4F95D04549C3F8BC86F/strandspazier
 gang-vom-wal-zum-hai
DTEND;TZID=Europe/Berlin:20260520T120000
DTSTAMP:20260421T082326Z
DTSTART;TZID=Europe/Berlin:20260520T103000
GEO:53.587907;6.657699
LOCATION:Walinsel\, Obere Promenade\, Jann-Berghaus-Straße\, Borkum
SEQUENCE:0
SUMMARY:Strandspaziergang „Vom Wal zum Hai“
UID:205B6DF51708E4F95D04549C3F8BC86F_iv3
URL:http://pages.destination.one/de/borkum/streaming/detail/Event/205B6DF51
 708E4F95D04549C3F8BC86F/strandspaziergang-vom-wal-zum-hai
END:VEVENT
BEGIN:VEVENT
CATEGORIES:Familien/Kinder sonstige
CATEGORIES:Natur und Umwelt
DESCRIPTION:\n\nmehr Informationen unter http://pages.destination.one/de/bo
 rkum/streaming/detail/Event/205B6DF51708E4F95D04549C3F8BC86F/strandspazier
 gang-vom-wal-zum-hai
DTEND;TZID=Europe/Berlin:20260527T120000
DTSTAMP:20260421T082326Z
DTSTART;TZID=Europe/Berlin:20260527T103000
GEO:53.587907;6.657699
LOCATION:Walinsel\, Obere Promenade\, Jann-Berghaus-Straße\, Borkum
SEQUENCE:0
SUMMARY:Strandspaziergang „Vom Wal zum Hai“
UID:205B6DF51708E4F95D04549C3F8BC86F_iv4
URL:http://pages.destination.one/de/borkum/streaming/detail/Event/205B6DF51
 708E4F95D04549C3F8BC86F/strandspaziergang-vom-wal-zum-hai
END:VEVENT
BEGIN:VEVENT
CATEGORIES:Familien/Kinder sonstige
CATEGORIES:Natur und Umwelt
DESCRIPTION:\n\nmehr Informationen unter http://pages.destination.one/de/bo
 rkum/streaming/detail/Event/205B6DF51708E4F95D04549C3F8BC86F/strandspazier
 gang-vom-wal-zum-hai
DTEND;TZID=Europe/Berlin:20260603T120000
DTSTAMP:20260421T082326Z
DTSTART;TZID=Europe/Berlin:20260603T103000
GEO:53.587907;6.657699
LOCATION:Walinsel\, Obere Promenade\, Jann-Berghaus-Straße\, Borkum
SEQUENCE:0
SUMMARY:Strandspaziergang „Vom Wal zum Hai“
UID:205B6DF51708E4F95D04549C3F8BC86F_iv5
URL:http://pages.destination.one/de/borkum/streaming/detail/Event/205B6DF51
 708E4F95D04549C3F8BC86F/strandspaziergang-vom-wal-zum-hai
END:VEVENT
BEGIN:VEVENT
CATEGORIES:Familien/Kinder sonstige
CATEGORIES:Natur und Umwelt
DESCRIPTION:\n\nmehr Informationen unter http://pages.destination.one/de/bo
 rkum/streaming/detail/Event/205B6DF51708E4F95D04549C3F8BC86F/strandspazier
 gang-vom-wal-zum-hai
DTEND;TZID=Europe/Berlin:20260610T120000
DTSTAMP:20260421T082326Z
DTSTART;TZID=Europe/Berlin:20260610T103000
GEO:53.587907;6.657699
LOCATION:Walinsel\, Obere Promenade\, Jann-Berghaus-Straße\, Borkum
SEQUENCE:0
SUMMARY:Strandspaziergang „Vom Wal zum Hai“
UID:205B6DF51708E4F95D04549C3F8BC86F_iv6
URL:http://pages.destination.one/de/borkum/streaming/detail/Event/205B6DF51
 708E4F95D04549C3F8BC86F/strandspaziergang-vom-wal-zum-hai
END:VEVENT
BEGIN:VEVENT
CATEGORIES:Familien/Kinder sonstige
CATEGORIES:Natur und Umwelt
DESCRIPTION:\n\nmehr Informationen unter http://pages.destination.one/de/bo
 rkum/streaming/detail/Event/205B6DF51708E4F95D04549C3F8BC86F/strandspazier
 gang-vom-wal-zum-hai
DTEND;TZID=Europe/Berlin:20260617T120000
DTSTAMP:20260421T082326Z
DTSTART;TZID=Europe/Berlin:20260617T103000
GEO:53.587907;6.657699
LOCATION:Walinsel\, Obere Promenade\, Jann-Berghaus-Straße\, Borkum
SEQUENCE:0
SUMMARY:Strandspaziergang „Vom Wal zum Hai“
UID:205B6DF51708E4F95D04549C3F8BC86F_iv7
URL:http://pages.destination.one/de/borkum/streaming/detail/Event/205B6DF51
 708E4F95D04549C3F8BC86F/strandspaziergang-vom-wal-zum-hai
END:VEVENT
BEGIN:VEVENT
CATEGORIES:Familien/Kinder sonstige
CATEGORIES:Natur und Umwelt
DESCRIPTION:\n\nmehr Informationen unter http://pages.destination.one/de/bo
 rkum/streaming/detail/Event/205B6DF51708E4F95D04549C3F8BC86F/strandspazier
 gang-vom-wal-zum-hai
DTEND;TZID=Europe/Berlin:20260715T120000
DTSTAMP:20260421T082326Z
DTSTART;TZID=Europe/Berlin:20260715T103000
GEO:53.587907;6.657699
LOCATION:Walinsel\, Obere Promenade\, Jann-Berghaus-Straße\, Borkum
SEQUENCE:0
SUMMARY:Strandspaziergang „Vom Wal zum Hai“
UID:205B6DF51708E4F95D04549C3F8BC86F_iv8
URL:http://pages.destination.one/de/borkum/streaming/detail/Event/205B6DF51
 708E4F95D04549C3F8BC86F/strandspaziergang-vom-wal-zum-hai
END:VEVENT
BEGIN:VEVENT
CATEGORIES:Familien/Kinder sonstige
CATEGORIES:Natur und Umwelt
DESCRIPTION:\n\nmehr Informationen unter http://pages.destination.one/de/bo
 rkum/streaming/detail/Event/205B6DF51708E4F95D04549C3F8BC86F/strandspazier
 gang-vom-wal-zum-hai
DTEND;TZID=Europe/Berlin:20260722T120000
DTSTAMP:20260421T082326Z
DTSTART;TZID=Europe/Berlin:20260722T103000
GEO:53.587907;6.657699
LOCATION:Walinsel\, Obere Promenade\, Jann-Berghaus-Straße\, Borkum
SEQUENCE:0
SUMMARY:Strandspaziergang „Vom Wal zum Hai“
UID:205B6DF51708E4F95D04549C3F8BC86F_iv9
URL:http://pages.destination.one/de/borkum/streaming/detail/Event/205B6DF51
 708E4F95D04549C3F8BC86F/strandspaziergang-vom-wal-zum-hai
END:VEVENT
BEGIN:VEVENT
CATEGORIES:Familien/Kinder sonstige
CATEGORIES:Natur und Umwelt
DESCRIPTION:\n\nmehr Informationen unter http://pages.destination.one/de/bo
 rkum/streaming/detail/Event/205B6DF51708E4F95D04549C3F8BC86F/strandspazier
 gang-vom-wal-zum-hai
DTEND;TZID=Europe/Berlin:20260729T120000
DTSTAMP:20260421T082326Z
DTSTART;TZID=Europe/Berlin:20260729T103000
GEO:53.587907;6.657699
LOCATION:Walinsel\, Obere Promenade\, Jann-Berghaus-Straße\, Borkum
SEQUENCE:0
SUMMARY:Strandspaziergang „Vom Wal zum Hai“
UID:205B6DF51708E4F95D04549C3F8BC86F_iv10
URL:http://pages.destination.one/de/borkum/streaming/detail/Event/205B6DF51
 708E4F95D04549C3F8BC86F/strandspaziergang-vom-wal-zum-hai
END:VEVENT
BEGIN:VEVENT
CATEGORIES:Familien/Kinder sonstige
CATEGORIES:Natur und Umwelt
DESCRIPTION:\n\nmehr Informationen unter http://pages.destination.one/de/bo
 rkum/streaming/detail/Event/205B6DF51708E4F95D04549C3F8BC86F/strandspazier
 gang-vom-wal-zum-hai
DTEND;TZID=Europe/Berlin:20260805T120000
DTSTAMP:20260421T082326Z
DTSTART;TZID=Europe/Berlin:20260805T103000
GEO:53.587907;6.657699
LOCATION:Walinsel\, Obere Promenade\, Jann-Berghaus-Straße\, Borkum
SEQUENCE:0
SUMMARY:Strandspaziergang „Vom Wal zum Hai“
UID:205B6DF51708E4F95D04549C3F8BC86F_iv11
URL:http://pages.destination.one/de/borkum/streaming/detail/Event/205B6DF51
 708E4F95D04549C3F8BC86F/strandspaziergang-vom-wal-zum-hai
END:VEVENT
BEGIN:VEVENT
CATEGORIES:Familien/Kinder sonstige
CATEGORIES:Natur und Umwelt
DESCRIPTION:\n\nmehr Informationen unter http://pages.destination.one/de/bo
 rkum/streaming/detail/Event/205B6DF51708E4F95D04549C3F8BC86F/strandspazier
 gang-vom-wal-zum-hai
DTEND;TZID=Europe/Berlin:20260812T120000
DTSTAMP:20260421T082326Z
DTSTART;TZID=Europe/Berlin:20260812T103000
GEO:53.587907;6.657699
LOCATION:Walinsel\, Obere Promenade\, Jann-Berghaus-Straße\, Borkum
SEQUENCE:0
SUMMARY:Strandspaziergang „Vom Wal zum Hai“
UID:205B6DF51708E4F95D04549C3F8BC86F_iv12
URL:http://pages.destination.one/de/borkum/streaming/detail/Event/205B6DF51
 708E4F95D04549C3F8BC86F/strandspaziergang-vom-wal-zum-hai
END:VEVENT
BEGIN:VEVENT
CATEGORIES:Familien/Kinder sonstige
CATEGORIES:Natur und Umwelt
DESCRIPTION:\n\nmehr Informationen unter http://pages.destination.one/de/bo
 rkum/streaming/detail/Event/205B6DF51708E4F95D04549C3F8BC86F/strandspazier
 gang-vom-wal-zum-hai
DTEND;TZID=Europe/Berlin:20260819T120000
DTSTAMP:20260421T082326Z
DTSTART;TZID=Europe/Berlin:20260819T103000
GEO:53.587907;6.657699
LOCATION:Walinsel\, Obere Promenade\, Jann-Berghaus-Straße\, Borkum
SEQUENCE:0
SUMMARY:Strandspaziergang „Vom Wal zum Hai“
UID:205B6DF51708E4F95D04549C3F8BC86F_iv13
URL:http://pages.destination.one/de/borkum/streaming/detail/Event/205B6DF51
 708E4F95D04549C3F8BC86F/strandspaziergang-vom-wal-zum-hai
END:VEVENT
BEGIN:VEVENT
CATEGORIES:Familien/Kinder sonstige
CATEGORIES:Natur und Umwelt
DESCRIPTION:\n\nmehr Informationen unter http://pages.destination.one/de/bo
 rkum/streaming/detail/Event/205B6DF51708E4F95D04549C3F8BC86F/strandspazier
 gang-vom-wal-zum-hai
DTEND;TZID=Europe/Berlin:20260826T120000
DTSTAMP:20260421T082326Z
DTSTART;TZID=Europe/Berlin:20260826T103000
GEO:53.587907;6.657699
LOCATION:Walinsel\, Obere Promenade\, Jann-Berghaus-Straße\, Borkum
SEQUENCE:0
SUMMARY:Strandspaziergang „Vom Wal zum Hai“
UID:205B6DF51708E4F95D04549C3F8BC86F_iv14
URL:http://pages.destination.one/de/borkum/streaming/detail/Event/205B6DF51
 708E4F95D04549C3F8BC86F/strandspaziergang-vom-wal-zum-hai
END:VEVENT
BEGIN:VEVENT
CATEGORIES:Familien/Kinder sonstige
CATEGORIES:Natur und Umwelt
DESCRIPTION:\n\nmehr Informationen unter http://pages.destination.one/de/bo
 rkum/streaming/detail/Event/205B6DF51708E4F95D04549C3F8BC86F/strandspazier
 gang-vom-wal-zum-hai
DTEND;TZID=Europe/Berlin:20260902T120000
DTSTAMP:20260421T082326Z
DTSTART;TZID=Europe/Berlin:20260902T103000
GEO:53.587907;6.657699
LOCATION:Walinsel\, Obere Promenade\, Jann-Berghaus-Straße\, Borkum
SEQUENCE:0
SUMMARY:Strandspaziergang „Vom Wal zum Hai“
UID:205B6DF51708E4F95D04549C3F8BC86F_iv15
URL:http://pages.destination.one/de/borkum/streaming/detail/Event/205B6DF51
 708E4F95D04549C3F8BC86F/strandspaziergang-vom-wal-zum-hai
END:VEVENT
BEGIN:VEVENT
CATEGORIES:Familien/Kinder sonstige
CATEGORIES:Natur und Umwelt
DESCRIPTION:\n\nmehr Informationen unter http://pages.destination.one/de/bo
 rkum/streaming/detail/Event/205B6DF51708E4F95D04549C3F8BC86F/strandspazier
 gang-vom-wal-zum-hai
DTEND;TZID=Europe/Berlin:20260909T120000
DTSTAMP:20260421T082326Z
DTSTART;TZID=Europe/Berlin:20260909T103000
GEO:53.587907;6.657699
LOCATION:Walinsel\, Obere Promenade\, Jann-Berghaus-Straße\, Borkum
SEQUENCE:0
SUMMARY:Strandspaziergang „Vom Wal zum Hai“
UID:205B6DF51708E4F95D04549C3F8BC86F_iv16
URL:http://pages.destination.one/de/borkum/streaming/detail/Event/205B6DF51
 708E4F95D04549C3F8BC86F/strandspaziergang-vom-wal-zum-hai
END:VEVENT
BEGIN:VEVENT
CATEGORIES:Familien/Kinder sonstige
CATEGORIES:Natur und Umwelt
DESCRIPTION:\n\nmehr Informationen unter http://pages.destination.one/de/bo
 rkum/streaming/detail/Event/205B6DF51708E4F95D04549C3F8BC86F/strandspazier
 gang-vom-wal-zum-hai
DTEND;TZID=Europe/Berlin:20260916T120000
DTSTAMP:20260421T082326Z
DTSTART;TZID=Europe/Berlin:20260916T103000
GEO:53.587907;6.657699
LOCATION:Walinsel\, Obere Promenade\, Jann-Berghaus-Straße\, Borkum
SEQUENCE:0
SUMMARY:Strandspaziergang „Vom Wal zum Hai“
UID:205B6DF51708E4F95D04549C3F8BC86F_iv17
URL:http://pages.destination.one/de/borkum/streaming/detail/Event/205B6DF51
 708E4F95D04549C3F8BC86F/strandspaziergang-vom-wal-zum-hai
END:VEVENT
BEGIN:VEVENT
CATEGORIES:Familien/Kinder sonstige
CATEGORIES:Natur und Umwelt
DESCRIPTION:\n\nmehr Informationen unter http://pages.destination.one/de/bo
 rkum/streaming/detail/Event/205B6DF51708E4F95D04549C3F8BC86F/strandspazier
 gang-vom-wal-zum-hai
DTEND;TZID=Europe/Berlin:20260923T120000
DTSTAMP:20260421T082326Z
DTSTART;TZID=Europe/Berlin:20260923T103000
GEO:53.587907;6.657699
LOCATION:Walinsel\, Obere Promenade\, Jann-Berghaus-Straße\, Borkum
SEQUENCE:0
SUMMARY:Strandspaziergang „Vom Wal zum Hai“
UID:205B6DF51708E4F95D04549C3F8BC86F_iv18
URL:http://pages.destination.one/de/borkum/streaming/detail/Event/205B6DF51
 708E4F95D04549C3F8BC86F/strandspaziergang-vom-wal-zum-hai
END:VEVENT
BEGIN:VEVENT
CATEGORIES:Familien/Kinder sonstige
CATEGORIES:Natur und Umwelt
DESCRIPTION:\n\nmehr Informationen unter http://pages.destination.one/de/bo
 rkum/streaming/detail/Event/205B6DF51708E4F95D04549C3F8BC86F/strandspazier
 gang-vom-wal-zum-hai
DTEND;TZID=Europe/Berlin:20260930T120000
DTSTAMP:20260421T082326Z
DTSTART;TZID=Europe/Berlin:20260930T103000
GEO:53.587907;6.657699
LOCATION:Walinsel\, Obere Promenade\, Jann-Berghaus-Straße\, Borkum
SEQUENCE:0
SUMMARY:Strandspaziergang „Vom Wal zum Hai“
UID:205B6DF51708E4F95D04549C3F8BC86F_iv19
URL:http://pages.destination.one/de/borkum/streaming/detail/Event/205B6DF51
 708E4F95D04549C3F8BC86F/strandspaziergang-vom-wal-zum-hai
END:VEVENT
BEGIN:VTIMEZONE
TZID:Europe/Berlin
X-LIC-LOCATION:Europe/Berlin
BEGIN:DAYLIGHT
DTSTART:19700329T020000
RRULE:FREQ=YEARLY;BYDAY=-1SU;BYMONTH=3
TZNAME:CEST
TZOFFSETFROM:+0100
TZOFFSETTO:+0200
END:DAYLIGHT
BEGIN:STANDARD
DTSTART:19701025T030000
RRULE:FREQ=YEARLY;BYDAY=-1SU;BYMONTH=10
TZNAME:CET
TZOFFSETFROM:+0200
TZOFFSETTO:+0100
END:STANDARD
END:VTIMEZONE
END:VCALENDAR
