BEGIN:VCALENDAR
VERSION:2.0
PRODID:-//destination.one//NONSGML destination.meta API//DE
X-WR-CALDESC:A calendar powered by destination.meta
X-WR-CALNAME:borkum Kalender via destination.meta
BEGIN:VEVENT
CATEGORIES:Reisen
CATEGORIES:Sport sonstige
DESCRIPTION:\n\nmehr Informationen unter http://pages.destination.one/de/bo
 rkum/streaming/detail/Event/2F5D637B0A7F6309D00BACAFE2178077/juleica-jugen
 dleitercard
DTEND;TZID=Europe/Berlin:20261017T133000
DTSTAMP:20260420T083342Z
DTSTART;TZID=Europe/Berlin:20261011T110000
GEO:53.595530;6.675690
LOCATION:TuS Borkum\, Hindenburgstraße 97\, Borkum
SEQUENCE:0
SUMMARY:JuLeiCa (Jugendleitercard)
UID:2F5D637B0A7F6309D00BACAFE2178077_iv0
URL:http://pages.destination.one/de/borkum/streaming/detail/Event/2F5D637B0
 A7F6309D00BACAFE2178077/juleica-jugendleitercard
END:VEVENT
BEGIN:VTIMEZONE
TZID:Europe/Berlin
X-LIC-LOCATION:Europe/Berlin
BEGIN:DAYLIGHT
DTSTART:19700329T020000
RRULE:FREQ=YEARLY;BYDAY=-1SU;BYMONTH=3
TZNAME:CEST
TZOFFSETFROM:+0100
TZOFFSETTO:+0200
END:DAYLIGHT
BEGIN:STANDARD
DTSTART:19701025T030000
RRULE:FREQ=YEARLY;BYDAY=-1SU;BYMONTH=10
TZNAME:CET
TZOFFSETFROM:+0200
TZOFFSETTO:+0100
END:STANDARD
END:VTIMEZONE
END:VCALENDAR
