BEGIN:VCALENDAR
VERSION:2.0
PRODID:-//destination.one//NONSGML destination.meta API//DE
X-WR-CALDESC:A calendar powered by destination.meta
X-WR-CALNAME:borkum Kalender via destination.meta
BEGIN:VEVENT
CATEGORIES:Natur und Umwelt
CATEGORIES:Sport sonstige
DESCRIPTION:\n\nmehr Informationen unter http://pages.destination.one/de/bo
 rkum/streaming/detail/Event/2F970F7BD30F429EEC9881CF17CE2AAB/naturgenuss-l
 aufen-am-borkumer-strand
DTEND;TZID=Europe/Berlin:20260508T173000
DTSTAMP:20260422T091042Z
DTSTART;TZID=Europe/Berlin:20260508T160000
GEO:53.585901;6.659142
LOCATION:Fahrrad-Parkplatz Gezeitenland\, Goethestraße 26\, Borkum
ORGANIZER;CN=Nationalpark-Schiff Feuerschiff BORKUMRIFF:mailto: nationalpar
 kschiff@borkum.de
SEQUENCE:0
SUMMARY:Naturgenuss-Laufen am Borkumer Strand
UID:2F970F7BD30F429EEC9881CF17CE2AAB_iv0
URL:http://pages.destination.one/de/borkum/streaming/detail/Event/2F970F7BD
 30F429EEC9881CF17CE2AAB/naturgenuss-laufen-am-borkumer-strand
END:VEVENT
BEGIN:VEVENT
CATEGORIES:Natur und Umwelt
CATEGORIES:Sport sonstige
DESCRIPTION:\n\nmehr Informationen unter http://pages.destination.one/de/bo
 rkum/streaming/detail/Event/2F970F7BD30F429EEC9881CF17CE2AAB/naturgenuss-l
 aufen-am-borkumer-strand
DTEND;TZID=Europe/Berlin:20260521T173000
DTSTAMP:20260422T091042Z
DTSTART;TZID=Europe/Berlin:20260521T160000
GEO:53.585901;6.659142
LOCATION:Fahrrad-Parkplatz Gezeitenland\, Goethestraße 26\, Borkum
ORGANIZER;CN=Nationalpark-Schiff Feuerschiff BORKUMRIFF:mailto: nationalpar
 kschiff@borkum.de
SEQUENCE:0
SUMMARY:Naturgenuss-Laufen am Borkumer Strand
UID:2F970F7BD30F429EEC9881CF17CE2AAB_iv1
URL:http://pages.destination.one/de/borkum/streaming/detail/Event/2F970F7BD
 30F429EEC9881CF17CE2AAB/naturgenuss-laufen-am-borkumer-strand
END:VEVENT
BEGIN:VTIMEZONE
TZID:Europe/Berlin
X-LIC-LOCATION:Europe/Berlin
BEGIN:DAYLIGHT
DTSTART:19700329T020000
RRULE:FREQ=YEARLY;BYDAY=-1SU;BYMONTH=3
TZNAME:CEST
TZOFFSETFROM:+0100
TZOFFSETTO:+0200
END:DAYLIGHT
BEGIN:STANDARD
DTSTART:19701025T030000
RRULE:FREQ=YEARLY;BYDAY=-1SU;BYMONTH=10
TZNAME:CET
TZOFFSETFROM:+0200
TZOFFSETTO:+0100
END:STANDARD
END:VTIMEZONE
END:VCALENDAR
