BEGIN:VCALENDAR
VERSION:2.0
PRODID:-//destination.one//NONSGML destination.meta API//DE
X-WR-CALDESC:A calendar powered by destination.meta
X-WR-CALNAME:borkum Kalender via destination.meta
BEGIN:VEVENT
CATEGORIES:Kunst und Kultur sonstige
CATEGORIES:Musik sonstige
CATEGORIES:Religion sonstige
CATEGORIES:Reisen
DESCRIPTION:\n\nmehr Informationen unter http://pages.destination.one/de/bo
 rkum/streaming/detail/Event/7A24EB2DA9E005DD3F5246FB1D8ABF57/bach-soir-e-k
 onzert-mit-berthold-wicke-in-der-ev-luth-christuskirche-am-neuen-leuchttur
 m
DTEND;TZID=Europe/Berlin:20260426T213000
DTSTAMP:20260420T084350Z
DTSTART;TZID=Europe/Berlin:20260426T200000
GEO:53.588449;6.660853
LOCATION:Ev.-luth. Christuskirche\, Goethestr. 14\, Borkum
ORGANIZER;CN=Evangelisch-lutherische Christus-Kirchengemeinde:mailto:joerg.
 schulze@evlka.de
SEQUENCE:0
SUMMARY:Bach-Soirée – Konzert mit Berthold Wicke in der Ev.-luth. Christusk
 irche am Neuen Leuchtturm
UID:7A24EB2DA9E005DD3F5246FB1D8ABF57_iv0
URL:http://pages.destination.one/de/borkum/streaming/detail/Event/7A24EB2DA
 9E005DD3F5246FB1D8ABF57/bach-soir-e-konzert-mit-berthold-wicke-in-der-ev-l
 uth-christuskirche-am-neuen-leuchtturm
END:VEVENT
BEGIN:VTIMEZONE
TZID:Europe/Berlin
X-LIC-LOCATION:Europe/Berlin
BEGIN:DAYLIGHT
DTSTART:19700329T020000
RRULE:FREQ=YEARLY;BYDAY=-1SU;BYMONTH=3
TZNAME:CEST
TZOFFSETFROM:+0100
TZOFFSETTO:+0200
END:DAYLIGHT
BEGIN:STANDARD
DTSTART:19701025T030000
RRULE:FREQ=YEARLY;BYDAY=-1SU;BYMONTH=10
TZNAME:CET
TZOFFSETFROM:+0200
TZOFFSETTO:+0100
END:STANDARD
END:VTIMEZONE
END:VCALENDAR
