BEGIN:VCALENDAR
VERSION:2.0
PRODID:-//destination.one//NONSGML destination.meta API//DE
X-WR-CALDESC:A calendar powered by destination.meta
X-WR-CALNAME:borkum Kalender via destination.meta
BEGIN:VEVENT
CATEGORIES:Natur und Umwelt
CATEGORIES:Reisen
DESCRIPTION:\n\nmehr Informationen unter http://pages.destination.one/de/bo
 rkum/streaming/detail/Event/822DA8DF331904BE768CC0BFEDC5600E/arche-wattenm
 eer-d-nenwanderung-zu-den-schmetterlingen-der-insel
DTEND;TZID=Europe/Berlin:20260526T123000
DTSTAMP:20260422T091054Z
DTSTART;TZID=Europe/Berlin:20260526T103000
GEO:53.604085;6.725916
LOCATION:Bushaltestelle Ostland\, \, Borkum
ORGANIZER;CN=Nationalpark-Schiff Feuerschiff BORKUMRIFF:mailto: nationalpar
 kschiff@borkum.de
SEQUENCE:0
SUMMARY:Arche Wattenmeer – Dünenwanderung zu den Schmetterlingen der Insel
UID:822DA8DF331904BE768CC0BFEDC5600E_iv0
URL:http://pages.destination.one/de/borkum/streaming/detail/Event/822DA8DF3
 31904BE768CC0BFEDC5600E/arche-wattenmeer-d-nenwanderung-zu-den-schmetterli
 ngen-der-insel
END:VEVENT
BEGIN:VTIMEZONE
TZID:Europe/Berlin
X-LIC-LOCATION:Europe/Berlin
BEGIN:DAYLIGHT
DTSTART:19700329T020000
RRULE:FREQ=YEARLY;BYDAY=-1SU;BYMONTH=3
TZNAME:CEST
TZOFFSETFROM:+0100
TZOFFSETTO:+0200
END:DAYLIGHT
BEGIN:STANDARD
DTSTART:19701025T030000
RRULE:FREQ=YEARLY;BYDAY=-1SU;BYMONTH=10
TZNAME:CET
TZOFFSETFROM:+0200
TZOFFSETTO:+0100
END:STANDARD
END:VTIMEZONE
END:VCALENDAR
