BEGIN:VCALENDAR
VERSION:2.0
PRODID:-//destination.one//NONSGML destination.meta API//DE
X-WR-CALDESC:A calendar powered by destination.meta
X-WR-CALNAME:borkum Kalender via destination.meta
BEGIN:VEVENT
CATEGORIES:Tradition\, Brauchtum\, Volksfest sonstige
CATEGORIES:Kunst und Kultur sonstige
CATEGORIES:Musik sonstige
CATEGORIES:Bühnenkunst
DESCRIPTION:\n\nmehr Informationen unter http://pages.destination.one/de/bo
 rkum/streaming/detail/Event/88A66AEC35DE9799EC84C5CF1516AA9D/b-rkumer-maib
 oom
DTEND;TZID=Europe/Berlin:20260523T193000
DTSTAMP:20260425T124959Z
DTSTART;TZID=Europe/Berlin:20260523T183000
GEO:53.585170;6.667176
LOCATION:Maibaumplatz\, \, 
SEQUENCE:0
SUMMARY:Börkumer Maiboom
UID:88A66AEC35DE9799EC84C5CF1516AA9D_iv0
URL:http://pages.destination.one/de/borkum/streaming/detail/Event/88A66AEC3
 5DE9799EC84C5CF1516AA9D/b-rkumer-maiboom
END:VEVENT
BEGIN:VTIMEZONE
TZID:Europe/Berlin
X-LIC-LOCATION:Europe/Berlin
BEGIN:DAYLIGHT
DTSTART:19700329T020000
RRULE:FREQ=YEARLY;BYDAY=-1SU;BYMONTH=3
TZNAME:CEST
TZOFFSETFROM:+0100
TZOFFSETTO:+0200
END:DAYLIGHT
BEGIN:STANDARD
DTSTART:19701025T030000
RRULE:FREQ=YEARLY;BYDAY=-1SU;BYMONTH=10
TZNAME:CET
TZOFFSETFROM:+0200
TZOFFSETTO:+0100
END:STANDARD
END:VTIMEZONE
END:VCALENDAR
