BEGIN:VCALENDAR
VERSION:2.0
PRODID:-//destination.one//NONSGML destination.meta API//DE
X-WR-CALDESC:A calendar powered by destination.meta
X-WR-CALNAME:borkum Kalender via destination.meta
BEGIN:VEVENT
CATEGORIES:Religion sonstige
CATEGORIES:Reisen
DESCRIPTION:\n\nmehr Informationen unter http://pages.destination.one/de/bo
 rkum/streaming/detail/Event/8F3F393B28D2947F63A7212BA354CB3A/gemeinsamer-e
 v-gottesdienst-zu-himmelfahrt-in-der-ev-luth-christuskirche-am-neuen-leuch
 tturm
DTEND;TZID=Europe/Berlin:20260514T110000
DTSTAMP:20260423T090550Z
DTSTART;TZID=Europe/Berlin:20260514T100000
GEO:53.588449;6.660853
LOCATION:Ev.-luth. Christuskirche\, Goethestr. 14\, Borkum
ORGANIZER;CN=Ökumene auf Borkum:mailto:bildungsreferent-borkum@gmx.de
SEQUENCE:0
SUMMARY:Gemeinsamer ev. Gottesdienst zu Himmelfahrt in der Ev.-luth. Christ
 uskirche am Neuen Leuchtturm
UID:8F3F393B28D2947F63A7212BA354CB3A_iv0
URL:http://pages.destination.one/de/borkum/streaming/detail/Event/8F3F393B2
 8D2947F63A7212BA354CB3A/gemeinsamer-ev-gottesdienst-zu-himmelfahrt-in-der-
 ev-luth-christuskirche-am-neuen-leuchtturm
END:VEVENT
BEGIN:VTIMEZONE
TZID:Europe/Berlin
X-LIC-LOCATION:Europe/Berlin
BEGIN:DAYLIGHT
DTSTART:19700329T020000
RRULE:FREQ=YEARLY;BYDAY=-1SU;BYMONTH=3
TZNAME:CEST
TZOFFSETFROM:+0100
TZOFFSETTO:+0200
END:DAYLIGHT
BEGIN:STANDARD
DTSTART:19701025T030000
RRULE:FREQ=YEARLY;BYDAY=-1SU;BYMONTH=10
TZNAME:CET
TZOFFSETFROM:+0200
TZOFFSETTO:+0100
END:STANDARD
END:VTIMEZONE
END:VCALENDAR
