BEGIN:VCALENDAR
VERSION:2.0
PRODID:-//destination.one//NONSGML destination.meta API//DE
X-WR-CALDESC:A calendar powered by destination.meta
X-WR-CALNAME:borkum Kalender via destination.meta
BEGIN:VEVENT
CATEGORIES:Musik sonstige
CATEGORIES:Sport sonstige
DESCRIPTION:\n\nmehr Informationen unter http://pages.destination.one/de/bo
 rkum/streaming/detail/Event/916CD98C3B6EB5FE1A50FCC594FFAB3C/dance-fitness
 -tanz-dich-frei
DTEND;TZID=Europe/Berlin:20260630T110000
DTSTAMP:20260421T094648Z
DTSTART;TZID=Europe/Berlin:20260630T100000
GEO:53.588633;6.658079
LOCATION:Promenade Musikpavillon\, Jann-Berghaus-Str.\, Borkum
ORGANIZER;CN=Nordseeheilbad Borkum GmbH:mailto:events@borkum.de
SEQUENCE:0
SUMMARY:Dance Fitness – Tanz dich frei!
UID:916CD98C3B6EB5FE1A50FCC594FFAB3C_iv0
URL:http://pages.destination.one/de/borkum/streaming/detail/Event/916CD98C3
 B6EB5FE1A50FCC594FFAB3C/dance-fitness-tanz-dich-frei
END:VEVENT
BEGIN:VEVENT
CATEGORIES:Musik sonstige
CATEGORIES:Sport sonstige
DESCRIPTION:\n\nmehr Informationen unter http://pages.destination.one/de/bo
 rkum/streaming/detail/Event/916CD98C3B6EB5FE1A50FCC594FFAB3C/dance-fitness
 -tanz-dich-frei
DTEND;TZID=Europe/Berlin:20260702T110000
DTSTAMP:20260421T094648Z
DTSTART;TZID=Europe/Berlin:20260702T100000
GEO:53.588633;6.658079
LOCATION:Promenade Musikpavillon\, Jann-Berghaus-Str.\, Borkum
ORGANIZER;CN=Nordseeheilbad Borkum GmbH:mailto:events@borkum.de
SEQUENCE:0
SUMMARY:Dance Fitness – Tanz dich frei!
UID:916CD98C3B6EB5FE1A50FCC594FFAB3C_iv1
URL:http://pages.destination.one/de/borkum/streaming/detail/Event/916CD98C3
 B6EB5FE1A50FCC594FFAB3C/dance-fitness-tanz-dich-frei
END:VEVENT
BEGIN:VEVENT
CATEGORIES:Musik sonstige
CATEGORIES:Sport sonstige
DESCRIPTION:\n\nmehr Informationen unter http://pages.destination.one/de/bo
 rkum/streaming/detail/Event/916CD98C3B6EB5FE1A50FCC594FFAB3C/dance-fitness
 -tanz-dich-frei
DTEND;TZID=Europe/Berlin:20260707T110000
DTSTAMP:20260421T094648Z
DTSTART;TZID=Europe/Berlin:20260707T100000
GEO:53.588633;6.658079
LOCATION:Promenade Musikpavillon\, Jann-Berghaus-Str.\, Borkum
ORGANIZER;CN=Nordseeheilbad Borkum GmbH:mailto:events@borkum.de
SEQUENCE:0
SUMMARY:Dance Fitness – Tanz dich frei!
UID:916CD98C3B6EB5FE1A50FCC594FFAB3C_iv2
URL:http://pages.destination.one/de/borkum/streaming/detail/Event/916CD98C3
 B6EB5FE1A50FCC594FFAB3C/dance-fitness-tanz-dich-frei
END:VEVENT
BEGIN:VEVENT
CATEGORIES:Musik sonstige
CATEGORIES:Sport sonstige
DESCRIPTION:\n\nmehr Informationen unter http://pages.destination.one/de/bo
 rkum/streaming/detail/Event/916CD98C3B6EB5FE1A50FCC594FFAB3C/dance-fitness
 -tanz-dich-frei
DTEND;TZID=Europe/Berlin:20260709T110000
DTSTAMP:20260421T094648Z
DTSTART;TZID=Europe/Berlin:20260709T100000
GEO:53.588633;6.658079
LOCATION:Promenade Musikpavillon\, Jann-Berghaus-Str.\, Borkum
ORGANIZER;CN=Nordseeheilbad Borkum GmbH:mailto:events@borkum.de
SEQUENCE:0
SUMMARY:Dance Fitness – Tanz dich frei!
UID:916CD98C3B6EB5FE1A50FCC594FFAB3C_iv3
URL:http://pages.destination.one/de/borkum/streaming/detail/Event/916CD98C3
 B6EB5FE1A50FCC594FFAB3C/dance-fitness-tanz-dich-frei
END:VEVENT
BEGIN:VEVENT
CATEGORIES:Musik sonstige
CATEGORIES:Sport sonstige
DESCRIPTION:\n\nmehr Informationen unter http://pages.destination.one/de/bo
 rkum/streaming/detail/Event/916CD98C3B6EB5FE1A50FCC594FFAB3C/dance-fitness
 -tanz-dich-frei
DTEND;TZID=Europe/Berlin:20260714T110000
DTSTAMP:20260421T094648Z
DTSTART;TZID=Europe/Berlin:20260714T100000
GEO:53.588633;6.658079
LOCATION:Promenade Musikpavillon\, Jann-Berghaus-Str.\, Borkum
ORGANIZER;CN=Nordseeheilbad Borkum GmbH:mailto:events@borkum.de
SEQUENCE:0
SUMMARY:Dance Fitness – Tanz dich frei!
UID:916CD98C3B6EB5FE1A50FCC594FFAB3C_iv4
URL:http://pages.destination.one/de/borkum/streaming/detail/Event/916CD98C3
 B6EB5FE1A50FCC594FFAB3C/dance-fitness-tanz-dich-frei
END:VEVENT
BEGIN:VEVENT
CATEGORIES:Musik sonstige
CATEGORIES:Sport sonstige
DESCRIPTION:\n\nmehr Informationen unter http://pages.destination.one/de/bo
 rkum/streaming/detail/Event/916CD98C3B6EB5FE1A50FCC594FFAB3C/dance-fitness
 -tanz-dich-frei
DTEND;TZID=Europe/Berlin:20260716T110000
DTSTAMP:20260421T094648Z
DTSTART;TZID=Europe/Berlin:20260716T100000
GEO:53.588633;6.658079
LOCATION:Promenade Musikpavillon\, Jann-Berghaus-Str.\, Borkum
ORGANIZER;CN=Nordseeheilbad Borkum GmbH:mailto:events@borkum.de
SEQUENCE:0
SUMMARY:Dance Fitness – Tanz dich frei!
UID:916CD98C3B6EB5FE1A50FCC594FFAB3C_iv5
URL:http://pages.destination.one/de/borkum/streaming/detail/Event/916CD98C3
 B6EB5FE1A50FCC594FFAB3C/dance-fitness-tanz-dich-frei
END:VEVENT
BEGIN:VTIMEZONE
TZID:Europe/Berlin
X-LIC-LOCATION:Europe/Berlin
BEGIN:DAYLIGHT
DTSTART:19700329T020000
RRULE:FREQ=YEARLY;BYDAY=-1SU;BYMONTH=3
TZNAME:CEST
TZOFFSETFROM:+0100
TZOFFSETTO:+0200
END:DAYLIGHT
BEGIN:STANDARD
DTSTART:19701025T030000
RRULE:FREQ=YEARLY;BYDAY=-1SU;BYMONTH=10
TZNAME:CET
TZOFFSETFROM:+0200
TZOFFSETTO:+0100
END:STANDARD
END:VTIMEZONE
END:VCALENDAR
