BEGIN:VCALENDAR
VERSION:2.0
PRODID:-//destination.one//NONSGML destination.meta API//DE
X-WR-CALDESC:A calendar powered by destination.meta
X-WR-CALNAME:borkum Kalender via destination.meta
BEGIN:VEVENT
CATEGORIES:Tradition\, Brauchtum\, Volksfest sonstige
CATEGORIES:Religion sonstige
DESCRIPTION:\n\nmehr Informationen unter http://pages.destination.one/de/bo
 rkum/streaming/detail/Event/939842DE0A7C0BCAB23854C24786344B/eucharistisch
 e-anbetung
DTEND;TZID=Europe/Berlin:20260520T193000
DTSTAMP:20260422T091046Z
DTSTART;TZID=Europe/Berlin:20260520T190000
GEO:53.588600;6.666342
LOCATION:Katholische Kirche Maria Meeresstern\, Kirchstraße 17\, Borkum
SEQUENCE:0
SUMMARY:Eucharistische Anbetung
UID:939842DE0A7C0BCAB23854C24786344B_iv0
URL:http://pages.destination.one/de/borkum/streaming/detail/Event/939842DE0
 A7C0BCAB23854C24786344B/eucharistische-anbetung
END:VEVENT
BEGIN:VEVENT
CATEGORIES:Tradition\, Brauchtum\, Volksfest sonstige
CATEGORIES:Religion sonstige
DESCRIPTION:\n\nmehr Informationen unter http://pages.destination.one/de/bo
 rkum/streaming/detail/Event/939842DE0A7C0BCAB23854C24786344B/eucharistisch
 e-anbetung
DTEND;TZID=Europe/Berlin:20260617T193000
DTSTAMP:20260422T091046Z
DTSTART;TZID=Europe/Berlin:20260617T190000
GEO:53.588600;6.666342
LOCATION:Katholische Kirche Maria Meeresstern\, Kirchstraße 17\, Borkum
SEQUENCE:0
SUMMARY:Eucharistische Anbetung
UID:939842DE0A7C0BCAB23854C24786344B_iv1
URL:http://pages.destination.one/de/borkum/streaming/detail/Event/939842DE0
 A7C0BCAB23854C24786344B/eucharistische-anbetung
END:VEVENT
BEGIN:VTIMEZONE
TZID:Europe/Berlin
X-LIC-LOCATION:Europe/Berlin
BEGIN:DAYLIGHT
DTSTART:19700329T020000
RRULE:FREQ=YEARLY;BYDAY=-1SU;BYMONTH=3
TZNAME:CEST
TZOFFSETFROM:+0100
TZOFFSETTO:+0200
END:DAYLIGHT
BEGIN:STANDARD
DTSTART:19701025T030000
RRULE:FREQ=YEARLY;BYDAY=-1SU;BYMONTH=10
TZNAME:CET
TZOFFSETFROM:+0200
TZOFFSETTO:+0100
END:STANDARD
END:VTIMEZONE
END:VCALENDAR
