BEGIN:VCALENDAR
VERSION:2.0
PRODID:-//destination.one//NONSGML destination.meta API//DE
X-WR-CALDESC:A calendar powered by destination.meta
X-WR-CALNAME:borkum Kalender via destination.meta
BEGIN:VEVENT
CATEGORIES:Natur und Umwelt
CATEGORIES:Religion sonstige
CATEGORIES:Reisen
DESCRIPTION:\n\nmehr Informationen unter http://pages.destination.one/de/bo
 rkum/streaming/detail/Event/963F2E6044C93E9507C3C227B79973C1/spiritueller-
 strandspaziergang-mit-urlaubsseelsorger-pastor-i-r-klaus-dettke
DTEND;TZID=Europe/Berlin:20260507T120000
DTSTAMP:20260421T084723Z
DTSTART;TZID=Europe/Berlin:20260507T103000
GEO:53.588660;6.660630
LOCATION:Ev.-luth. Gemeindehaus Arche\, Strandstr. 37\, Borkum
ORGANIZER;CN=Evangelisch-lutherische Christus-Kirchengemeinde:mailto:joerg.
 schulze@evlka.de
SEQUENCE:0
SUMMARY:Spiritueller Strandspaziergang mit Urlaubsseelsorger Pastor i.R. Kl
 aus Dettke
UID:963F2E6044C93E9507C3C227B79973C1_iv0
URL:http://pages.destination.one/de/borkum/streaming/detail/Event/963F2E604
 4C93E9507C3C227B79973C1/spiritueller-strandspaziergang-mit-urlaubsseelsorg
 er-pastor-i-r-klaus-dettke
END:VEVENT
BEGIN:VEVENT
CATEGORIES:Natur und Umwelt
CATEGORIES:Religion sonstige
CATEGORIES:Reisen
DESCRIPTION:\n\nmehr Informationen unter http://pages.destination.one/de/bo
 rkum/streaming/detail/Event/963F2E6044C93E9507C3C227B79973C1/spiritueller-
 strandspaziergang-mit-urlaubsseelsorger-pastor-i-r-klaus-dettke
DTEND;TZID=Europe/Berlin:20260521T120000
DTSTAMP:20260421T084723Z
DTSTART;TZID=Europe/Berlin:20260521T103000
GEO:53.588660;6.660630
LOCATION:Ev.-luth. Gemeindehaus Arche\, Strandstr. 37\, Borkum
ORGANIZER;CN=Evangelisch-lutherische Christus-Kirchengemeinde:mailto:joerg.
 schulze@evlka.de
SEQUENCE:0
SUMMARY:Spiritueller Strandspaziergang mit Urlaubsseelsorger Pastor i.R. Kl
 aus Dettke
UID:963F2E6044C93E9507C3C227B79973C1_iv1
URL:http://pages.destination.one/de/borkum/streaming/detail/Event/963F2E604
 4C93E9507C3C227B79973C1/spiritueller-strandspaziergang-mit-urlaubsseelsorg
 er-pastor-i-r-klaus-dettke
END:VEVENT
BEGIN:VTIMEZONE
TZID:Europe/Berlin
X-LIC-LOCATION:Europe/Berlin
BEGIN:DAYLIGHT
DTSTART:19700329T020000
RRULE:FREQ=YEARLY;BYDAY=-1SU;BYMONTH=3
TZNAME:CEST
TZOFFSETFROM:+0100
TZOFFSETTO:+0200
END:DAYLIGHT
BEGIN:STANDARD
DTSTART:19701025T030000
RRULE:FREQ=YEARLY;BYDAY=-1SU;BYMONTH=10
TZNAME:CET
TZOFFSETFROM:+0200
TZOFFSETTO:+0100
END:STANDARD
END:VTIMEZONE
END:VCALENDAR
