BEGIN:VCALENDAR
VERSION:2.0
PRODID:-//destination.one//NONSGML destination.meta API//DE
X-WR-CALDESC:A calendar powered by destination.meta
X-WR-CALNAME:borkum Kalender via destination.meta
BEGIN:VEVENT
CATEGORIES:Sport sonstige
DESCRIPTION:\n\nmehr Informationen unter http://pages.destination.one/de/bo
 rkum/streaming/detail/Event/A264130543C250547DDC08DB25ADF30F/fussballcamps
DTEND;TZID=Europe/Berlin:20260731T153000
DTSTAMP:20260421T122038Z
DTSTART;TZID=Europe/Berlin:20260727T093000
GEO:53.595530;6.675690
LOCATION:TuS Borkum\, Hindenburgstraße 97\, Borkum
ORGANIZER;CN=Fussballfabrik Ingo Anderbrügge:https://www.fussballfabrik.com
 /
SEQUENCE:0
SUMMARY:Fussballcamps
UID:A264130543C250547DDC08DB25ADF30F_iv0
URL:http://pages.destination.one/de/borkum/streaming/detail/Event/A26413054
 3C250547DDC08DB25ADF30F/fussballcamps
END:VEVENT
BEGIN:VEVENT
CATEGORIES:Sport sonstige
DESCRIPTION:\n\nmehr Informationen unter http://pages.destination.one/de/bo
 rkum/streaming/detail/Event/A264130543C250547DDC08DB25ADF30F/fussballcamps
DTEND;TZID=Europe/Berlin:20260807T153000
DTSTAMP:20260421T122038Z
DTSTART;TZID=Europe/Berlin:20260803T100000
GEO:53.595530;6.675690
LOCATION:TuS Borkum\, Hindenburgstraße 97\, Borkum
ORGANIZER;CN=Fussballfabrik Ingo Anderbrügge:https://www.fussballfabrik.com
 /
SEQUENCE:0
SUMMARY:Fussballcamps
UID:A264130543C250547DDC08DB25ADF30F_iv1
URL:http://pages.destination.one/de/borkum/streaming/detail/Event/A26413054
 3C250547DDC08DB25ADF30F/fussballcamps
END:VEVENT
BEGIN:VEVENT
CATEGORIES:Sport sonstige
DESCRIPTION:\n\nmehr Informationen unter http://pages.destination.one/de/bo
 rkum/streaming/detail/Event/A264130543C250547DDC08DB25ADF30F/fussballcamps
DTEND;TZID=Europe/Berlin:20260814T153000
DTSTAMP:20260421T122038Z
DTSTART;TZID=Europe/Berlin:20260810T100000
GEO:53.595530;6.675690
LOCATION:TuS Borkum\, Hindenburgstraße 97\, Borkum
ORGANIZER;CN=Fussballfabrik Ingo Anderbrügge:https://www.fussballfabrik.com
 /
SEQUENCE:0
SUMMARY:Fussballcamps
UID:A264130543C250547DDC08DB25ADF30F_iv2
URL:http://pages.destination.one/de/borkum/streaming/detail/Event/A26413054
 3C250547DDC08DB25ADF30F/fussballcamps
END:VEVENT
BEGIN:VEVENT
CATEGORIES:Sport sonstige
DESCRIPTION:\n\nmehr Informationen unter http://pages.destination.one/de/bo
 rkum/streaming/detail/Event/A264130543C250547DDC08DB25ADF30F/fussballcamps
DTEND;TZID=Europe/Berlin:20260821T153000
DTSTAMP:20260421T122038Z
DTSTART;TZID=Europe/Berlin:20260817T100000
GEO:53.595530;6.675690
LOCATION:TuS Borkum\, Hindenburgstraße 97\, Borkum
ORGANIZER;CN=Fussballfabrik Ingo Anderbrügge:https://www.fussballfabrik.com
 /
SEQUENCE:0
SUMMARY:Fussballcamps
UID:A264130543C250547DDC08DB25ADF30F_iv3
URL:http://pages.destination.one/de/borkum/streaming/detail/Event/A26413054
 3C250547DDC08DB25ADF30F/fussballcamps
END:VEVENT
BEGIN:VEVENT
CATEGORIES:Sport sonstige
DESCRIPTION:\n\nmehr Informationen unter http://pages.destination.one/de/bo
 rkum/streaming/detail/Event/A264130543C250547DDC08DB25ADF30F/fussballcamps
DTEND;TZID=Europe/Berlin:20261023T153000
DTSTAMP:20260421T122038Z
DTSTART;TZID=Europe/Berlin:20261019T100000
GEO:53.595530;6.675690
LOCATION:TuS Borkum\, Hindenburgstraße 97\, Borkum
ORGANIZER;CN=Fussballfabrik Ingo Anderbrügge:https://www.fussballfabrik.com
 /
SEQUENCE:0
SUMMARY:Fussballcamps
UID:A264130543C250547DDC08DB25ADF30F_iv4
URL:http://pages.destination.one/de/borkum/streaming/detail/Event/A26413054
 3C250547DDC08DB25ADF30F/fussballcamps
END:VEVENT
BEGIN:VTIMEZONE
TZID:Europe/Berlin
X-LIC-LOCATION:Europe/Berlin
BEGIN:DAYLIGHT
DTSTART:19700329T020000
RRULE:FREQ=YEARLY;BYDAY=-1SU;BYMONTH=3
TZNAME:CEST
TZOFFSETFROM:+0100
TZOFFSETTO:+0200
END:DAYLIGHT
BEGIN:STANDARD
DTSTART:19701025T030000
RRULE:FREQ=YEARLY;BYDAY=-1SU;BYMONTH=10
TZNAME:CET
TZOFFSETFROM:+0200
TZOFFSETTO:+0100
END:STANDARD
END:VTIMEZONE
END:VCALENDAR
