BEGIN:VCALENDAR
VERSION:2.0
PRODID:-//destination.one//NONSGML destination.meta API//DE
X-WR-CALDESC:A calendar powered by destination.meta
X-WR-CALNAME:borkum Kalender via destination.meta
BEGIN:VEVENT
CATEGORIES:Tradition\, Brauchtum\, Volksfest sonstige
CATEGORIES:Religion sonstige
DESCRIPTION:\n\nmehr Informationen unter http://pages.destination.one/de/bo
 rkum/streaming/detail/Event/B6096202554E4E00E8A1D63741332DF3/marienandacht
DTEND;TZID=Europe/Berlin:20260510T180000
DTSTAMP:20260421T082215Z
DTSTART;TZID=Europe/Berlin:20260510T170000
GEO:53.588600;6.666342
LOCATION:Katholische Kirche Maria Meeresstern\, Kirchstraße 17\, Borkum
SEQUENCE:0
SUMMARY:Marienandacht
UID:B6096202554E4E00E8A1D63741332DF3_iv0
URL:http://pages.destination.one/de/borkum/streaming/detail/Event/B60962025
 54E4E00E8A1D63741332DF3/marienandacht
END:VEVENT
BEGIN:VTIMEZONE
TZID:Europe/Berlin
X-LIC-LOCATION:Europe/Berlin
BEGIN:DAYLIGHT
DTSTART:19700329T020000
RRULE:FREQ=YEARLY;BYDAY=-1SU;BYMONTH=3
TZNAME:CEST
TZOFFSETFROM:+0100
TZOFFSETTO:+0200
END:DAYLIGHT
BEGIN:STANDARD
DTSTART:19701025T030000
RRULE:FREQ=YEARLY;BYDAY=-1SU;BYMONTH=10
TZNAME:CET
TZOFFSETFROM:+0200
TZOFFSETTO:+0100
END:STANDARD
END:VTIMEZONE
END:VCALENDAR
