BEGIN:VCALENDAR
VERSION:2.0
PRODID:-//destination.one//NONSGML destination.meta API//DE
X-WR-CALDESC:A calendar powered by destination.meta
X-WR-CALNAME:borkum Kalender via destination.meta
BEGIN:VEVENT
CATEGORIES:Familien/Kinder sonstige
CATEGORIES:Natur und Umwelt
CATEGORIES:Vortrag\, Diskussion\, Lesung sonstige
DESCRIPTION:\n\nmehr Informationen unter http://pages.destination.one/de/bo
 rkum/streaming/detail/Event/B7DA46CA5E145B467FB64EAF9286D6FF/f-hrung-durch
 -das-nordsee-aquarium-borkum-mit-f-tterung
DTEND;TZID=Europe/Berlin:20260423T100000
DTSTAMP:20260421T082652Z
DTSTART;TZID=Europe/Berlin:20260423T090000
GEO:53.580633;6.662117
LOCATION:Nordsee Aquarium\, Von-Frese-Straße 46\, Borkum
SEQUENCE:0
SUMMARY:Führung durch das Nordsee Aquarium Borkum mit Fütterung
UID:B7DA46CA5E145B467FB64EAF9286D6FF_iv0
URL:http://pages.destination.one/de/borkum/streaming/detail/Event/B7DA46CA5
 E145B467FB64EAF9286D6FF/f-hrung-durch-das-nordsee-aquarium-borkum-mit-f-tt
 erung
END:VEVENT
BEGIN:VEVENT
CATEGORIES:Familien/Kinder sonstige
CATEGORIES:Natur und Umwelt
CATEGORIES:Vortrag\, Diskussion\, Lesung sonstige
DESCRIPTION:\n\nmehr Informationen unter http://pages.destination.one/de/bo
 rkum/streaming/detail/Event/B7DA46CA5E145B467FB64EAF9286D6FF/f-hrung-durch
 -das-nordsee-aquarium-borkum-mit-f-tterung
DTEND;TZID=Europe/Berlin:20260521T100000
DTSTAMP:20260421T082652Z
DTSTART;TZID=Europe/Berlin:20260521T090000
GEO:53.580633;6.662117
LOCATION:Nordsee Aquarium\, Von-Frese-Straße 46\, Borkum
SEQUENCE:0
SUMMARY:Führung durch das Nordsee Aquarium Borkum mit Fütterung
UID:B7DA46CA5E145B467FB64EAF9286D6FF_iv1
URL:http://pages.destination.one/de/borkum/streaming/detail/Event/B7DA46CA5
 E145B467FB64EAF9286D6FF/f-hrung-durch-das-nordsee-aquarium-borkum-mit-f-tt
 erung
END:VEVENT
BEGIN:VEVENT
CATEGORIES:Familien/Kinder sonstige
CATEGORIES:Natur und Umwelt
CATEGORIES:Vortrag\, Diskussion\, Lesung sonstige
DESCRIPTION:\n\nmehr Informationen unter http://pages.destination.one/de/bo
 rkum/streaming/detail/Event/B7DA46CA5E145B467FB64EAF9286D6FF/f-hrung-durch
 -das-nordsee-aquarium-borkum-mit-f-tterung
DTEND;TZID=Europe/Berlin:20260528T100000
DTSTAMP:20260421T082652Z
DTSTART;TZID=Europe/Berlin:20260528T090000
GEO:53.580633;6.662117
LOCATION:Nordsee Aquarium\, Von-Frese-Straße 46\, Borkum
SEQUENCE:0
SUMMARY:Führung durch das Nordsee Aquarium Borkum mit Fütterung
UID:B7DA46CA5E145B467FB64EAF9286D6FF_iv2
URL:http://pages.destination.one/de/borkum/streaming/detail/Event/B7DA46CA5
 E145B467FB64EAF9286D6FF/f-hrung-durch-das-nordsee-aquarium-borkum-mit-f-tt
 erung
END:VEVENT
BEGIN:VEVENT
CATEGORIES:Familien/Kinder sonstige
CATEGORIES:Natur und Umwelt
CATEGORIES:Vortrag\, Diskussion\, Lesung sonstige
DESCRIPTION:\n\nmehr Informationen unter http://pages.destination.one/de/bo
 rkum/streaming/detail/Event/B7DA46CA5E145B467FB64EAF9286D6FF/f-hrung-durch
 -das-nordsee-aquarium-borkum-mit-f-tterung
DTEND;TZID=Europe/Berlin:20260604T100000
DTSTAMP:20260421T082652Z
DTSTART;TZID=Europe/Berlin:20260604T090000
GEO:53.580633;6.662117
LOCATION:Nordsee Aquarium\, Von-Frese-Straße 46\, Borkum
SEQUENCE:0
SUMMARY:Führung durch das Nordsee Aquarium Borkum mit Fütterung
UID:B7DA46CA5E145B467FB64EAF9286D6FF_iv3
URL:http://pages.destination.one/de/borkum/streaming/detail/Event/B7DA46CA5
 E145B467FB64EAF9286D6FF/f-hrung-durch-das-nordsee-aquarium-borkum-mit-f-tt
 erung
END:VEVENT
BEGIN:VEVENT
CATEGORIES:Familien/Kinder sonstige
CATEGORIES:Natur und Umwelt
CATEGORIES:Vortrag\, Diskussion\, Lesung sonstige
DESCRIPTION:\n\nmehr Informationen unter http://pages.destination.one/de/bo
 rkum/streaming/detail/Event/B7DA46CA5E145B467FB64EAF9286D6FF/f-hrung-durch
 -das-nordsee-aquarium-borkum-mit-f-tterung
DTEND;TZID=Europe/Berlin:20260611T100000
DTSTAMP:20260421T082652Z
DTSTART;TZID=Europe/Berlin:20260611T090000
GEO:53.580633;6.662117
LOCATION:Nordsee Aquarium\, Von-Frese-Straße 46\, Borkum
SEQUENCE:0
SUMMARY:Führung durch das Nordsee Aquarium Borkum mit Fütterung
UID:B7DA46CA5E145B467FB64EAF9286D6FF_iv4
URL:http://pages.destination.one/de/borkum/streaming/detail/Event/B7DA46CA5
 E145B467FB64EAF9286D6FF/f-hrung-durch-das-nordsee-aquarium-borkum-mit-f-tt
 erung
END:VEVENT
BEGIN:VEVENT
CATEGORIES:Familien/Kinder sonstige
CATEGORIES:Natur und Umwelt
CATEGORIES:Vortrag\, Diskussion\, Lesung sonstige
DESCRIPTION:\n\nmehr Informationen unter http://pages.destination.one/de/bo
 rkum/streaming/detail/Event/B7DA46CA5E145B467FB64EAF9286D6FF/f-hrung-durch
 -das-nordsee-aquarium-borkum-mit-f-tterung
DTEND;TZID=Europe/Berlin:20260618T100000
DTSTAMP:20260421T082652Z
DTSTART;TZID=Europe/Berlin:20260618T090000
GEO:53.580633;6.662117
LOCATION:Nordsee Aquarium\, Von-Frese-Straße 46\, Borkum
SEQUENCE:0
SUMMARY:Führung durch das Nordsee Aquarium Borkum mit Fütterung
UID:B7DA46CA5E145B467FB64EAF9286D6FF_iv5
URL:http://pages.destination.one/de/borkum/streaming/detail/Event/B7DA46CA5
 E145B467FB64EAF9286D6FF/f-hrung-durch-das-nordsee-aquarium-borkum-mit-f-tt
 erung
END:VEVENT
BEGIN:VEVENT
CATEGORIES:Familien/Kinder sonstige
CATEGORIES:Natur und Umwelt
CATEGORIES:Vortrag\, Diskussion\, Lesung sonstige
DESCRIPTION:\n\nmehr Informationen unter http://pages.destination.one/de/bo
 rkum/streaming/detail/Event/B7DA46CA5E145B467FB64EAF9286D6FF/f-hrung-durch
 -das-nordsee-aquarium-borkum-mit-f-tterung
DTEND;TZID=Europe/Berlin:20260716T100000
DTSTAMP:20260421T082652Z
DTSTART;TZID=Europe/Berlin:20260716T090000
GEO:53.580633;6.662117
LOCATION:Nordsee Aquarium\, Von-Frese-Straße 46\, Borkum
SEQUENCE:0
SUMMARY:Führung durch das Nordsee Aquarium Borkum mit Fütterung
UID:B7DA46CA5E145B467FB64EAF9286D6FF_iv6
URL:http://pages.destination.one/de/borkum/streaming/detail/Event/B7DA46CA5
 E145B467FB64EAF9286D6FF/f-hrung-durch-das-nordsee-aquarium-borkum-mit-f-tt
 erung
END:VEVENT
BEGIN:VEVENT
CATEGORIES:Familien/Kinder sonstige
CATEGORIES:Natur und Umwelt
CATEGORIES:Vortrag\, Diskussion\, Lesung sonstige
DESCRIPTION:\n\nmehr Informationen unter http://pages.destination.one/de/bo
 rkum/streaming/detail/Event/B7DA46CA5E145B467FB64EAF9286D6FF/f-hrung-durch
 -das-nordsee-aquarium-borkum-mit-f-tterung
DTEND;TZID=Europe/Berlin:20260723T100000
DTSTAMP:20260421T082652Z
DTSTART;TZID=Europe/Berlin:20260723T090000
GEO:53.580633;6.662117
LOCATION:Nordsee Aquarium\, Von-Frese-Straße 46\, Borkum
SEQUENCE:0
SUMMARY:Führung durch das Nordsee Aquarium Borkum mit Fütterung
UID:B7DA46CA5E145B467FB64EAF9286D6FF_iv7
URL:http://pages.destination.one/de/borkum/streaming/detail/Event/B7DA46CA5
 E145B467FB64EAF9286D6FF/f-hrung-durch-das-nordsee-aquarium-borkum-mit-f-tt
 erung
END:VEVENT
BEGIN:VEVENT
CATEGORIES:Familien/Kinder sonstige
CATEGORIES:Natur und Umwelt
CATEGORIES:Vortrag\, Diskussion\, Lesung sonstige
DESCRIPTION:\n\nmehr Informationen unter http://pages.destination.one/de/bo
 rkum/streaming/detail/Event/B7DA46CA5E145B467FB64EAF9286D6FF/f-hrung-durch
 -das-nordsee-aquarium-borkum-mit-f-tterung
DTEND;TZID=Europe/Berlin:20260730T100000
DTSTAMP:20260421T082652Z
DTSTART;TZID=Europe/Berlin:20260730T090000
GEO:53.580633;6.662117
LOCATION:Nordsee Aquarium\, Von-Frese-Straße 46\, Borkum
SEQUENCE:0
SUMMARY:Führung durch das Nordsee Aquarium Borkum mit Fütterung
UID:B7DA46CA5E145B467FB64EAF9286D6FF_iv8
URL:http://pages.destination.one/de/borkum/streaming/detail/Event/B7DA46CA5
 E145B467FB64EAF9286D6FF/f-hrung-durch-das-nordsee-aquarium-borkum-mit-f-tt
 erung
END:VEVENT
BEGIN:VEVENT
CATEGORIES:Familien/Kinder sonstige
CATEGORIES:Natur und Umwelt
CATEGORIES:Vortrag\, Diskussion\, Lesung sonstige
DESCRIPTION:\n\nmehr Informationen unter http://pages.destination.one/de/bo
 rkum/streaming/detail/Event/B7DA46CA5E145B467FB64EAF9286D6FF/f-hrung-durch
 -das-nordsee-aquarium-borkum-mit-f-tterung
DTEND;TZID=Europe/Berlin:20260806T100000
DTSTAMP:20260421T082652Z
DTSTART;TZID=Europe/Berlin:20260806T090000
GEO:53.580633;6.662117
LOCATION:Nordsee Aquarium\, Von-Frese-Straße 46\, Borkum
SEQUENCE:0
SUMMARY:Führung durch das Nordsee Aquarium Borkum mit Fütterung
UID:B7DA46CA5E145B467FB64EAF9286D6FF_iv9
URL:http://pages.destination.one/de/borkum/streaming/detail/Event/B7DA46CA5
 E145B467FB64EAF9286D6FF/f-hrung-durch-das-nordsee-aquarium-borkum-mit-f-tt
 erung
END:VEVENT
BEGIN:VEVENT
CATEGORIES:Familien/Kinder sonstige
CATEGORIES:Natur und Umwelt
CATEGORIES:Vortrag\, Diskussion\, Lesung sonstige
DESCRIPTION:\n\nmehr Informationen unter http://pages.destination.one/de/bo
 rkum/streaming/detail/Event/B7DA46CA5E145B467FB64EAF9286D6FF/f-hrung-durch
 -das-nordsee-aquarium-borkum-mit-f-tterung
DTEND;TZID=Europe/Berlin:20260813T100000
DTSTAMP:20260421T082652Z
DTSTART;TZID=Europe/Berlin:20260813T090000
GEO:53.580633;6.662117
LOCATION:Nordsee Aquarium\, Von-Frese-Straße 46\, Borkum
SEQUENCE:0
SUMMARY:Führung durch das Nordsee Aquarium Borkum mit Fütterung
UID:B7DA46CA5E145B467FB64EAF9286D6FF_iv10
URL:http://pages.destination.one/de/borkum/streaming/detail/Event/B7DA46CA5
 E145B467FB64EAF9286D6FF/f-hrung-durch-das-nordsee-aquarium-borkum-mit-f-tt
 erung
END:VEVENT
BEGIN:VEVENT
CATEGORIES:Familien/Kinder sonstige
CATEGORIES:Natur und Umwelt
CATEGORIES:Vortrag\, Diskussion\, Lesung sonstige
DESCRIPTION:\n\nmehr Informationen unter http://pages.destination.one/de/bo
 rkum/streaming/detail/Event/B7DA46CA5E145B467FB64EAF9286D6FF/f-hrung-durch
 -das-nordsee-aquarium-borkum-mit-f-tterung
DTEND;TZID=Europe/Berlin:20260820T100000
DTSTAMP:20260421T082652Z
DTSTART;TZID=Europe/Berlin:20260820T090000
GEO:53.580633;6.662117
LOCATION:Nordsee Aquarium\, Von-Frese-Straße 46\, Borkum
SEQUENCE:0
SUMMARY:Führung durch das Nordsee Aquarium Borkum mit Fütterung
UID:B7DA46CA5E145B467FB64EAF9286D6FF_iv11
URL:http://pages.destination.one/de/borkum/streaming/detail/Event/B7DA46CA5
 E145B467FB64EAF9286D6FF/f-hrung-durch-das-nordsee-aquarium-borkum-mit-f-tt
 erung
END:VEVENT
BEGIN:VEVENT
CATEGORIES:Familien/Kinder sonstige
CATEGORIES:Natur und Umwelt
CATEGORIES:Vortrag\, Diskussion\, Lesung sonstige
DESCRIPTION:\n\nmehr Informationen unter http://pages.destination.one/de/bo
 rkum/streaming/detail/Event/B7DA46CA5E145B467FB64EAF9286D6FF/f-hrung-durch
 -das-nordsee-aquarium-borkum-mit-f-tterung
DTEND;TZID=Europe/Berlin:20260827T100000
DTSTAMP:20260421T082652Z
DTSTART;TZID=Europe/Berlin:20260827T090000
GEO:53.580633;6.662117
LOCATION:Nordsee Aquarium\, Von-Frese-Straße 46\, Borkum
SEQUENCE:0
SUMMARY:Führung durch das Nordsee Aquarium Borkum mit Fütterung
UID:B7DA46CA5E145B467FB64EAF9286D6FF_iv12
URL:http://pages.destination.one/de/borkum/streaming/detail/Event/B7DA46CA5
 E145B467FB64EAF9286D6FF/f-hrung-durch-das-nordsee-aquarium-borkum-mit-f-tt
 erung
END:VEVENT
BEGIN:VEVENT
CATEGORIES:Familien/Kinder sonstige
CATEGORIES:Natur und Umwelt
CATEGORIES:Vortrag\, Diskussion\, Lesung sonstige
DESCRIPTION:\n\nmehr Informationen unter http://pages.destination.one/de/bo
 rkum/streaming/detail/Event/B7DA46CA5E145B467FB64EAF9286D6FF/f-hrung-durch
 -das-nordsee-aquarium-borkum-mit-f-tterung
DTEND;TZID=Europe/Berlin:20260903T100000
DTSTAMP:20260421T082652Z
DTSTART;TZID=Europe/Berlin:20260903T090000
GEO:53.580633;6.662117
LOCATION:Nordsee Aquarium\, Von-Frese-Straße 46\, Borkum
SEQUENCE:0
SUMMARY:Führung durch das Nordsee Aquarium Borkum mit Fütterung
UID:B7DA46CA5E145B467FB64EAF9286D6FF_iv13
URL:http://pages.destination.one/de/borkum/streaming/detail/Event/B7DA46CA5
 E145B467FB64EAF9286D6FF/f-hrung-durch-das-nordsee-aquarium-borkum-mit-f-tt
 erung
END:VEVENT
BEGIN:VEVENT
CATEGORIES:Familien/Kinder sonstige
CATEGORIES:Natur und Umwelt
CATEGORIES:Vortrag\, Diskussion\, Lesung sonstige
DESCRIPTION:\n\nmehr Informationen unter http://pages.destination.one/de/bo
 rkum/streaming/detail/Event/B7DA46CA5E145B467FB64EAF9286D6FF/f-hrung-durch
 -das-nordsee-aquarium-borkum-mit-f-tterung
DTEND;TZID=Europe/Berlin:20260910T100000
DTSTAMP:20260421T082652Z
DTSTART;TZID=Europe/Berlin:20260910T090000
GEO:53.580633;6.662117
LOCATION:Nordsee Aquarium\, Von-Frese-Straße 46\, Borkum
SEQUENCE:0
SUMMARY:Führung durch das Nordsee Aquarium Borkum mit Fütterung
UID:B7DA46CA5E145B467FB64EAF9286D6FF_iv14
URL:http://pages.destination.one/de/borkum/streaming/detail/Event/B7DA46CA5
 E145B467FB64EAF9286D6FF/f-hrung-durch-das-nordsee-aquarium-borkum-mit-f-tt
 erung
END:VEVENT
BEGIN:VEVENT
CATEGORIES:Familien/Kinder sonstige
CATEGORIES:Natur und Umwelt
CATEGORIES:Vortrag\, Diskussion\, Lesung sonstige
DESCRIPTION:\n\nmehr Informationen unter http://pages.destination.one/de/bo
 rkum/streaming/detail/Event/B7DA46CA5E145B467FB64EAF9286D6FF/f-hrung-durch
 -das-nordsee-aquarium-borkum-mit-f-tterung
DTEND;TZID=Europe/Berlin:20260917T100000
DTSTAMP:20260421T082652Z
DTSTART;TZID=Europe/Berlin:20260917T090000
GEO:53.580633;6.662117
LOCATION:Nordsee Aquarium\, Von-Frese-Straße 46\, Borkum
SEQUENCE:0
SUMMARY:Führung durch das Nordsee Aquarium Borkum mit Fütterung
UID:B7DA46CA5E145B467FB64EAF9286D6FF_iv15
URL:http://pages.destination.one/de/borkum/streaming/detail/Event/B7DA46CA5
 E145B467FB64EAF9286D6FF/f-hrung-durch-das-nordsee-aquarium-borkum-mit-f-tt
 erung
END:VEVENT
BEGIN:VEVENT
CATEGORIES:Familien/Kinder sonstige
CATEGORIES:Natur und Umwelt
CATEGORIES:Vortrag\, Diskussion\, Lesung sonstige
DESCRIPTION:\n\nmehr Informationen unter http://pages.destination.one/de/bo
 rkum/streaming/detail/Event/B7DA46CA5E145B467FB64EAF9286D6FF/f-hrung-durch
 -das-nordsee-aquarium-borkum-mit-f-tterung
DTEND;TZID=Europe/Berlin:20260924T100000
DTSTAMP:20260421T082652Z
DTSTART;TZID=Europe/Berlin:20260924T090000
GEO:53.580633;6.662117
LOCATION:Nordsee Aquarium\, Von-Frese-Straße 46\, Borkum
SEQUENCE:0
SUMMARY:Führung durch das Nordsee Aquarium Borkum mit Fütterung
UID:B7DA46CA5E145B467FB64EAF9286D6FF_iv16
URL:http://pages.destination.one/de/borkum/streaming/detail/Event/B7DA46CA5
 E145B467FB64EAF9286D6FF/f-hrung-durch-das-nordsee-aquarium-borkum-mit-f-tt
 erung
END:VEVENT
BEGIN:VTIMEZONE
TZID:Europe/Berlin
X-LIC-LOCATION:Europe/Berlin
BEGIN:DAYLIGHT
DTSTART:19700329T020000
RRULE:FREQ=YEARLY;BYDAY=-1SU;BYMONTH=3
TZNAME:CEST
TZOFFSETFROM:+0100
TZOFFSETTO:+0200
END:DAYLIGHT
BEGIN:STANDARD
DTSTART:19701025T030000
RRULE:FREQ=YEARLY;BYDAY=-1SU;BYMONTH=10
TZNAME:CET
TZOFFSETFROM:+0200
TZOFFSETTO:+0100
END:STANDARD
END:VTIMEZONE
END:VCALENDAR
