BEGIN:VCALENDAR
VERSION:2.0
PRODID:-//destination.one//NONSGML destination.meta API//DE
X-WR-CALDESC:A calendar powered by destination.meta
X-WR-CALNAME:borkum Kalender via destination.meta
BEGIN:VEVENT
CATEGORIES:Kunst und Kultur sonstige
CATEGORIES:Musik sonstige
CATEGORIES:Religion sonstige
CATEGORIES:Reisen
DESCRIPTION:\n\nmehr Informationen unter http://pages.destination.one/de/bo
 rkum/streaming/detail/Event/BD83DF0D93D4E7D7B44EF981716D3442/offenes-singe
 n-ein-mitsingabend-f-r-alle-in-der-ev-luth-christuskirche-am-neuen-leuchtt
 urm
DTEND;TZID=Europe/Berlin:20260427T213000
DTSTAMP:20260421T083544Z
DTSTART;TZID=Europe/Berlin:20260427T200000
GEO:53.588245;6.660268
LOCATION:ev.-luth. Christus-Kirchengemeinde\, Goethestraße 14\, Borkum
ORGANIZER;CN=Evangelisch-lutherische Christus-Kirchengemeinde:mailto:joerg.
 schulze@evlka.de
SEQUENCE:0
SUMMARY:Offenes Singen  – ein Mitsingabend für alle – in der Ev.-luth. Chri
 stuskirche am Neuen Leuchtturm
UID:BD83DF0D93D4E7D7B44EF981716D3442_iv0
URL:http://pages.destination.one/de/borkum/streaming/detail/Event/BD83DF0D9
 3D4E7D7B44EF981716D3442/offenes-singen-ein-mitsingabend-f-r-alle-in-der-ev
 -luth-christuskirche-am-neuen-leuchtturm
END:VEVENT
BEGIN:VTIMEZONE
TZID:Europe/Berlin
X-LIC-LOCATION:Europe/Berlin
BEGIN:DAYLIGHT
DTSTART:19700329T020000
RRULE:FREQ=YEARLY;BYDAY=-1SU;BYMONTH=3
TZNAME:CEST
TZOFFSETFROM:+0100
TZOFFSETTO:+0200
END:DAYLIGHT
BEGIN:STANDARD
DTSTART:19701025T030000
RRULE:FREQ=YEARLY;BYDAY=-1SU;BYMONTH=10
TZNAME:CET
TZOFFSETFROM:+0200
TZOFFSETTO:+0100
END:STANDARD
END:VTIMEZONE
END:VCALENDAR
