BEGIN:VCALENDAR
VERSION:2.0
PRODID:-//destination.one//NONSGML destination.meta API//DE
X-WR-CALDESC:A calendar powered by destination.meta
X-WR-CALNAME:borkum Kalender via destination.meta
BEGIN:VEVENT
CATEGORIES:Kunst und Kultur sonstige
CATEGORIES:Religion sonstige
CATEGORIES:Reisen
CATEGORIES:Vortrag\, Diskussion\, Lesung sonstige
DESCRIPTION:\n\nmehr Informationen unter http://pages.destination.one/de/bo
 rkum/streaming/detail/Event/CBD2D954FAE047E9877DD82F3AB64CD9/gespr-chs-und
 -vortragsabend-kennen-sie-mephiboscheth-im-ev-luth-gemeindehaus-arche-am-n
 euen-leuchtturm
DTEND;TZID=Europe/Berlin:20260421T213000
DTSTAMP:20260422T091157Z
DTSTART;TZID=Europe/Berlin:20260421T200000
GEO:53.588660;6.660630
LOCATION:Ev.-luth. Gemeindehaus Arche\, Strandstr. 37\, Borkum
ORGANIZER;CN=Evangelisch-lutherische Christus-Kirchengemeinde:mailto:joerg.
 schulze@evlka.de
SEQUENCE:0
SUMMARY:Gesprächs- und Vortragsabend „Kennen Sie Mephiboscheth?“ im Ev.-lut
 h. Gemeindehaus Arche am Neuen Leuchtturm
UID:CBD2D954FAE047E9877DD82F3AB64CD9_iv0
URL:http://pages.destination.one/de/borkum/streaming/detail/Event/CBD2D954F
 AE047E9877DD82F3AB64CD9/gespr-chs-und-vortragsabend-kennen-sie-mephibosche
 th-im-ev-luth-gemeindehaus-arche-am-neuen-leuchtturm
END:VEVENT
BEGIN:VTIMEZONE
TZID:Europe/Berlin
X-LIC-LOCATION:Europe/Berlin
BEGIN:DAYLIGHT
DTSTART:19700329T020000
RRULE:FREQ=YEARLY;BYDAY=-1SU;BYMONTH=3
TZNAME:CEST
TZOFFSETFROM:+0100
TZOFFSETTO:+0200
END:DAYLIGHT
BEGIN:STANDARD
DTSTART:19701025T030000
RRULE:FREQ=YEARLY;BYDAY=-1SU;BYMONTH=10
TZNAME:CET
TZOFFSETFROM:+0200
TZOFFSETTO:+0100
END:STANDARD
END:VTIMEZONE
END:VCALENDAR
