BEGIN:VCALENDAR
VERSION:2.0
PRODID:-//destination.one//NONSGML destination.meta API//DE
X-WR-CALDESC:A calendar powered by destination.meta
X-WR-CALNAME:borkum Kalender via destination.meta
BEGIN:VEVENT
CATEGORIES:Gesundheit sonstige
CATEGORIES:Reisen
CATEGORIES:Bühnenkunst
CATEGORIES:Vortrag\, Diskussion\, Lesung sonstige
DESCRIPTION:\n\nmehr Informationen unter http://pages.destination.one/de/bo
 rkum/streaming/detail/Event/DC0BE63DD4CAE95F7566B742F148FFBB/ihr-workshop-
 f-r-neue-positive-glaubenss-tze
DTEND;TZID=Europe/Berlin:20260520T123000
DTSTAMP:20260423T115624Z
DTSTART;TZID=Europe/Berlin:20260520T103000
GEO:53.590425;6.659389
LOCATION:Strandhotel Hohenzollern\, Jann-Berghaus-Straße 63\, Borkum
ORGANIZER;CN=Naturheilpraxis Thomas Schulze:mailto:info@naturheilpraxis-sch
 ulze.com
PRIORITY:4
SEQUENCE:0
SUMMARY:Ihr Workshop für neue\, positive Glaubenssätze!
UID:DC0BE63DD4CAE95F7566B742F148FFBB_iv0
URL:http://pages.destination.one/de/borkum/streaming/detail/Event/DC0BE63DD
 4CAE95F7566B742F148FFBB/ihr-workshop-f-r-neue-positive-glaubenss-tze
END:VEVENT
BEGIN:VTIMEZONE
TZID:Europe/Berlin
X-LIC-LOCATION:Europe/Berlin
BEGIN:DAYLIGHT
DTSTART:19700329T020000
RRULE:FREQ=YEARLY;BYDAY=-1SU;BYMONTH=3
TZNAME:CEST
TZOFFSETFROM:+0100
TZOFFSETTO:+0200
END:DAYLIGHT
BEGIN:STANDARD
DTSTART:19701025T030000
RRULE:FREQ=YEARLY;BYDAY=-1SU;BYMONTH=10
TZNAME:CET
TZOFFSETFROM:+0200
TZOFFSETTO:+0100
END:STANDARD
END:VTIMEZONE
END:VCALENDAR
