BEGIN:VCALENDAR
VERSION:2.0
PRODID:-//destination.one//NONSGML destination.meta API//DE
X-WR-CALDESC:A calendar powered by destination.meta
X-WR-CALNAME:borkum Kalender via destination.meta
BEGIN:VEVENT
CATEGORIES:Gesundheit sonstige
CATEGORIES:Kunst und Kultur sonstige
CATEGORIES:Natur und Umwelt
CATEGORIES:Reisen
CATEGORIES:Sport sonstige
DESCRIPTION:\n\nmehr Informationen unter http://pages.destination.one/de/bo
 rkum/streaming/detail/Event/DDE053626B56B32A88E782833428C6E7/atme-dich-fre
 i-breathwork-session-auf-borkum
DTEND;TZID=Europe/Berlin:20260426T183000
DTSTAMP:20260421T084219Z
DTSTART;TZID=Europe/Berlin:20260426T160000
GEO:53.587606;6.667284
LOCATION:arthotel bakker\, Neue Straße 6 b\, Borkum
SEQUENCE:0
SUMMARY:Atme dich frei – Breathwork Session auf Borkum
UID:DDE053626B56B32A88E782833428C6E7_iv0
URL:http://pages.destination.one/de/borkum/streaming/detail/Event/DDE053626
 B56B32A88E782833428C6E7/atme-dich-frei-breathwork-session-auf-borkum
END:VEVENT
BEGIN:VEVENT
CATEGORIES:Gesundheit sonstige
CATEGORIES:Kunst und Kultur sonstige
CATEGORIES:Natur und Umwelt
CATEGORIES:Reisen
CATEGORIES:Sport sonstige
DESCRIPTION:\n\nmehr Informationen unter http://pages.destination.one/de/bo
 rkum/streaming/detail/Event/DDE053626B56B32A88E782833428C6E7/atme-dich-fre
 i-breathwork-session-auf-borkum
DTEND;TZID=Europe/Berlin:20260513T183000
DTSTAMP:20260421T084219Z
DTSTART;TZID=Europe/Berlin:20260513T160000
GEO:53.587606;6.667284
LOCATION:arthotel bakker\, Neue Straße 6 b\, Borkum
SEQUENCE:0
SUMMARY:Atme dich frei – Breathwork Session auf Borkum
UID:DDE053626B56B32A88E782833428C6E7_iv1
URL:http://pages.destination.one/de/borkum/streaming/detail/Event/DDE053626
 B56B32A88E782833428C6E7/atme-dich-frei-breathwork-session-auf-borkum
END:VEVENT
BEGIN:VTIMEZONE
TZID:Europe/Berlin
X-LIC-LOCATION:Europe/Berlin
BEGIN:DAYLIGHT
DTSTART:19700329T020000
RRULE:FREQ=YEARLY;BYDAY=-1SU;BYMONTH=3
TZNAME:CEST
TZOFFSETFROM:+0100
TZOFFSETTO:+0200
END:DAYLIGHT
BEGIN:STANDARD
DTSTART:19701025T030000
RRULE:FREQ=YEARLY;BYDAY=-1SU;BYMONTH=10
TZNAME:CET
TZOFFSETFROM:+0200
TZOFFSETTO:+0100
END:STANDARD
END:VTIMEZONE
END:VCALENDAR
