BEGIN:VCALENDAR
VERSION:2.0
PRODID:-//destination.one//NONSGML destination.meta API//DE
X-WR-CALDESC:A calendar powered by destination.meta
X-WR-CALNAME:borkum Kalender via destination.meta
BEGIN:VEVENT
CATEGORIES:Kunst und Kultur sonstige
CATEGORIES:Natur und Umwelt
CATEGORIES:Religion sonstige
CATEGORIES:Reisen
DESCRIPTION:\n\nmehr Informationen unter http://pages.destination.one/de/bo
 rkum/streaming/detail/Event/F0B119A23D2453FA3FFACE87C2B42143/abendspazierg
 ang-herr-bleibe-bei-uns-denn-es-will-abend-werden-mit-urlaubsseelsorgerin-
 pastorin-i-r-elfriede-siemens
DTEND;TZID=Europe/Berlin:20260423T213000
DTSTAMP:20260421T082801Z
DTSTART;TZID=Europe/Berlin:20260423T200000
GEO:53.588660;6.660630
LOCATION:Ev.-luth. Gemeindehaus Arche\, Strandstr. 37\, Borkum
ORGANIZER;CN=Evangelisch-lutherische Christus-Kirchengemeinde:mailto:joerg.
 schulze@evlka.de
SEQUENCE:0
SUMMARY:Abendspaziergang „Herr\, bleibe bei uns\, denn es will Abend werden
 “ mit Urlaubsseelsorgerin Pastorin i.R. Elfriede Siemens
UID:F0B119A23D2453FA3FFACE87C2B42143_iv0
URL:http://pages.destination.one/de/borkum/streaming/detail/Event/F0B119A23
 D2453FA3FFACE87C2B42143/abendspaziergang-herr-bleibe-bei-uns-denn-es-will-
 abend-werden-mit-urlaubsseelsorgerin-pastorin-i-r-elfriede-siemens
END:VEVENT
BEGIN:VTIMEZONE
TZID:Europe/Berlin
X-LIC-LOCATION:Europe/Berlin
BEGIN:DAYLIGHT
DTSTART:19700329T020000
RRULE:FREQ=YEARLY;BYDAY=-1SU;BYMONTH=3
TZNAME:CEST
TZOFFSETFROM:+0100
TZOFFSETTO:+0200
END:DAYLIGHT
BEGIN:STANDARD
DTSTART:19701025T030000
RRULE:FREQ=YEARLY;BYDAY=-1SU;BYMONTH=10
TZNAME:CET
TZOFFSETFROM:+0200
TZOFFSETTO:+0100
END:STANDARD
END:VTIMEZONE
END:VCALENDAR
