BEGIN:VCALENDAR
VERSION:2.0
PRODID:-//destination.one//NONSGML destination.meta API//DE
X-WR-CALDESC:A calendar powered by destination.meta
X-WR-CALNAME:borkum Kalender via destination.meta
BEGIN:VEVENT
CATEGORIES:Party
DESCRIPTION:\n\nmehr Informationen unter http://pages.destination.one/de/bo
 rkum/streaming/detail/Event/F1719EF981E4AF4BEDF8839BD0514EEF/strandfete-de
 s-verein-borkumer-jungens
DTEND;TZID=Europe/Berlin:20260802T050000
DTSTAMP:20260421T084153Z
DTSTART;TZID=Europe/Berlin:20260801T190000
GEO:53.596988;6.659742
LOCATION:Höhe Borkum Riff\, \, 
SEQUENCE:0
SUMMARY:Strandfete des Verein Borkumer Jungens
UID:F1719EF981E4AF4BEDF8839BD0514EEF_iv0
URL:http://pages.destination.one/de/borkum/streaming/detail/Event/F1719EF98
 1E4AF4BEDF8839BD0514EEF/strandfete-des-verein-borkumer-jungens
END:VEVENT
BEGIN:VTIMEZONE
TZID:Europe/Berlin
X-LIC-LOCATION:Europe/Berlin
BEGIN:DAYLIGHT
DTSTART:19700329T020000
RRULE:FREQ=YEARLY;BYDAY=-1SU;BYMONTH=3
TZNAME:CEST
TZOFFSETFROM:+0100
TZOFFSETTO:+0200
END:DAYLIGHT
BEGIN:STANDARD
DTSTART:19701025T030000
RRULE:FREQ=YEARLY;BYDAY=-1SU;BYMONTH=10
TZNAME:CET
TZOFFSETFROM:+0200
TZOFFSETTO:+0100
END:STANDARD
END:VTIMEZONE
END:VCALENDAR
