BEGIN:VCALENDAR
VERSION:2.0
PRODID:-//destination.one//NONSGML destination.meta API//DE
X-WR-CALDESC:A calendar powered by destination.meta
X-WR-CALNAME:borkum Kalender via destination.meta
BEGIN:VEVENT
CATEGORIES:Kunst und Kultur sonstige
CATEGORIES:Religion sonstige
CATEGORIES:Reisen
CATEGORIES:Vortrag\, Diskussion\, Lesung sonstige
DESCRIPTION:\n\nmehr Informationen unter http://pages.destination.one/de/bo
 rkum/streaming/detail/Event/F8552E5A86E842DEBDD1318D09D6BC4C/vortrags-und-
 gespr-chabend-engel-verborgene-begleiter-im-gemeindehaus-arche-am-neuen-le
 uchtturm
DTEND;TZID=Europe/Berlin:20260506T213000
DTSTAMP:20260423T090856Z
DTSTART;TZID=Europe/Berlin:20260506T200000
GEO:53.588660;6.660630
LOCATION:Ev.-luth. Gemeindehaus Arche\, Strandstr. 37\, Borkum
ORGANIZER;CN=Evangelisch-lutherische Christus-Kirchengemeinde:mailto:joerg.
 schulze@evlka.de
SEQUENCE:0
SUMMARY:Vortrags- und Gesprächabend „Engel – verborgene Begleiter“ im Gemei
 ndehaus Arche am Neuen Leuchtturm
UID:F8552E5A86E842DEBDD1318D09D6BC4C_iv0
URL:http://pages.destination.one/de/borkum/streaming/detail/Event/F8552E5A8
 6E842DEBDD1318D09D6BC4C/vortrags-und-gespr-chabend-engel-verborgene-beglei
 ter-im-gemeindehaus-arche-am-neuen-leuchtturm
END:VEVENT
BEGIN:VTIMEZONE
TZID:Europe/Berlin
X-LIC-LOCATION:Europe/Berlin
BEGIN:DAYLIGHT
DTSTART:19700329T020000
RRULE:FREQ=YEARLY;BYDAY=-1SU;BYMONTH=3
TZNAME:CEST
TZOFFSETFROM:+0100
TZOFFSETTO:+0200
END:DAYLIGHT
BEGIN:STANDARD
DTSTART:19701025T030000
RRULE:FREQ=YEARLY;BYDAY=-1SU;BYMONTH=10
TZNAME:CET
TZOFFSETFROM:+0200
TZOFFSETTO:+0100
END:STANDARD
END:VTIMEZONE
END:VCALENDAR
