BEGIN:VCALENDAR
VERSION:2.0
PRODID:-//destination.one//NONSGML destination.meta API//DE
X-WR-CALDESC:A calendar powered by destination.meta
X-WR-CALNAME:borkum Kalender via destination.meta
BEGIN:VEVENT
CATEGORIES:Kinderkonzert
CATEGORIES:Strandfest
CATEGORIES:Familien/Kinder sonstige
CATEGORIES:Open Air sonstige
CATEGORIES:Festival
DESCRIPTION:Am 10. August um 19.00 Uhr folgt ein weiteres Highlight für Gro
 ß und Klein: TKKG – die Live-Hörspiel-Tour\n\nmehr Informationen unter htt
 p://pages.destination.one/de/borkum/streaming/detail/Event/e_101219262/bea
 ch-days-borkum-2026-tkkg-live-h-rspiel
DTEND;TZID=Europe/Berlin:20260810T210000
DTSTAMP:20260421T082245Z
DTSTART;TZID=Europe/Berlin:20260810T190000
GEO:53.587105;6.656513
LOCATION:Nordbad\, Nordstrand\, Borkum
SEQUENCE:0
SUMMARY:BEACH DAYS BORKUM 2026 - TKKG Live-Hörspiel
UID:e_101219262_iv0
URL:http://pages.destination.one/de/borkum/streaming/detail/Event/e_1012192
 62/beach-days-borkum-2026-tkkg-live-h-rspiel
END:VEVENT
BEGIN:VTIMEZONE
TZID:Europe/Berlin
X-LIC-LOCATION:Europe/Berlin
BEGIN:DAYLIGHT
DTSTART:19700329T020000
RRULE:FREQ=YEARLY;BYDAY=-1SU;BYMONTH=3
TZNAME:CEST
TZOFFSETFROM:+0100
TZOFFSETTO:+0200
END:DAYLIGHT
BEGIN:STANDARD
DTSTART:19701025T030000
RRULE:FREQ=YEARLY;BYDAY=-1SU;BYMONTH=10
TZNAME:CET
TZOFFSETFROM:+0200
TZOFFSETTO:+0100
END:STANDARD
END:VTIMEZONE
END:VCALENDAR
